BEGIN:VCALENDAR
VERSION:2.0
PRODID:-//wp-events-plugin.com//7.2.3.1//EN
BEGIN:VEVENT
UID:566@frauenbildungszentrum.de
DTSTART;TZID=Europe/Berlin:20250408T140000
DTEND;TZID=Europe/Berlin:20250408T173000
DTSTAMP:20250401T141355Z
URL:https://www.frauenbildungszentrum.de/events/kleinere-reparaturen-am-pc
SUMMARY:Kleinere Reparaturen am PC
DESCRIPTION:Optimieren Sie Ihren Computer\nVoraussetzungen: Grundkenntnisse
 \, wie Computerbasiskurs\nWas tun\, wenn der Computer nicht macht\, was er
  soll?\nDieser Kurs gibt Ihnen Hilfe zur Selbsthilfe. Sie erarbeiten sich 
 ein Grundverständnis des Betriebssystems Windows und erschließen sich We
 ge\, um einige häufig auftretende Schwierigkeiten selbst zu überwinden.\
 n\nSie werden sich mit der sogenannten Systemsteuerung vertraut machen und
  lernen\, einfache Wartungsarbeiten selbst durchzuführen\, um Ihr System 
 zu optimieren und anzupassen.\nKursinhalte sind u.a.:\n\n• Wiederherstel
 lung der Internetverbindung\n\n• Beschleunigung des Rechners\, z.B. durc
 h Freigabe von Speicherplatz oder Installation von Updates\n\n• Lautspre
 chereinstellungen\n\n• Einstellungen der Taskleiste\; Umgang mit dem Tas
 kmanager\n\n• Umgang mit Schadsoftware\nLeitung: Birgit Henrici\nDiensta
 g\, 8. April 2025\n14.00 – 17.30 Uhr\nMindestteilnehmerinnenzahl: 4\n\n2
 51-01-303\n\n 
CATEGORIES:April,Computer Spezial,Computerkurse
LOCATION:Frauenbildungszentrum\, Schöne Aussicht 24 \, Bad Homburg\, Hesse
 n\, 61348  \, Deutschland
X-APPLE-STRUCTURED-LOCATION;VALUE=URI;X-ADDRESS=Schöne Aussicht 24 \, Bad 
 Homburg\, Hessen\, 61348  \, Deutschland;X-APPLE-RADIUS=100;X-TITLE=Frauen
 bildungszentrum:geo:0,0
END:VEVENT
BEGIN:VTIMEZONE
TZID:Europe/Berlin
X-LIC-LOCATION:Europe/Berlin
BEGIN:DAYLIGHT
DTSTART:20250330T030000
TZOFFSETFROM:+0100
TZOFFSETTO:+0200
TZNAME:CEST
END:DAYLIGHT
END:VTIMEZONE
END:VCALENDAR