BEGIN:VCALENDAR
VERSION:2.0
PRODID:-//wp-events-plugin.com//7.2.3.1//EN
BEGIN:VEVENT
UID:373@frauenbildungszentrum.de
DTSTART;TZID=Europe/Berlin:20241101T000000
DTEND;TZID=Europe/Berlin:20241102T000000
DTSTAMP:20240701T150913Z
URL:https://www.frauenbildungszentrum.de/events/klartext-reden
SUMMARY:Klartext reden
DESCRIPTION:Wie Frauen sagen\, was sie wollen und bekommen\, was sie möcht
 en\nReden wir doch einfach Klartext! Sagen wir\, was wir meinen\, ohne Ums
 chweife – klar und direkt. Das ist gar nicht so einfach\, denn niemand m
 öchte anecken und riskieren\, Falsches zu sagen.\nNur eine offene und ein
 deutige Kommunikation hilft\, Missverständnisse zu vermeiden und gesetzte
  Ziele zu erreichen. Wer Klartext redet\, stärkt und verbessert Beziehung
 en – auch im Team.\nKursinhalte sind u.a.:\n\n\n 	Was hindert\, Klartext
  zu reden?\n 	Frauen (sind und sprechen) anders\n 	Körpersprache und Stim
 me\, direktes und indirektes Sprechen\n 	Kritik äußern und annehmen\; Ne
 in sagen\n\nLeitung: Heike Krines\nFreitag\, 1. November 2024\n18.00 – 2
 1.00 Uhr\nSamstag\, 2. November 2024\n09.00 – 16.00 Uhr\n\n&nbsp\;\n\n&n
 bsp\;\n\n242-07-007\n 
CATEGORIES:Gesundheit &amp; Selbsterfahrung,November
LOCATION:Frauenbildungszentrum\, Schöne Aussicht 24 \, Bad Homburg\, Hesse
 n\, 61348  \, Deutschland
X-APPLE-STRUCTURED-LOCATION;VALUE=URI;X-ADDRESS=Schöne Aussicht 24 \, Bad 
 Homburg\, Hessen\, 61348  \, Deutschland;X-APPLE-RADIUS=100;X-TITLE=Frauen
 bildungszentrum:geo:0,0
END:VEVENT
BEGIN:VTIMEZONE
TZID:Europe/Berlin
X-LIC-LOCATION:Europe/Berlin
BEGIN:STANDARD
DTSTART:20241027T020000
TZOFFSETFROM:+0200
TZOFFSETTO:+0100
TZNAME:CET
END:STANDARD
END:VTIMEZONE
END:VCALENDAR