BEGIN:VCALENDAR
VERSION:2.0
PRODID:-//wp-events-plugin.com//7.2.3.1//EN
BEGIN:VEVENT
UID:556@frauenbildungszentrum.de
DTSTART;TZID=Europe/Berlin:20241029T193000
DTEND;TZID=Europe/Berlin:20241029T210000
DTSTAMP:20240722T133022Z
URL:https://www.frauenbildungszentrum.de/events/kindermentaltraining
SUMMARY:Kindermentaltraining
DESCRIPTION:Vortrag für interessierte Erwachsene\n\nDas alltägliche Denke
 n hat seine Wurzeln im Kindesalter. Deshalb ist Mentales Training wichtig 
 für Kinder und Jugendliche. Je früher sich Heranwachsende ihrer mentalen
  Kräfte bewusst sind und Methoden erlernen\, mit denen sie ihr Wohlbefind
 en und ihr Selbstbewusstsein stärken können\, desto besser ist es.\n\nEi
 ne konstruktive gedankliche Ausrichtung wirkt sich unter anderem positiv a
 uf die persönliche Entwicklung\, die schulischen Leistungen und das Selbs
 tbild der Kinder aus. Es hat einen Grund\, weshalb viele Spitzensportler u
 nd Manager Mentales Training für sich nutzen.\n\nSie erfahren in diesem V
 ortrag\, was unter (Kinder-) Mentaltraining verstanden wird. Sie erleben a
 nhand einiger Übungen selbst\, wie die Kraft der Gedanken Ihr Leben direk
 t beeinflusst und welchen großen Einfluss Erwachsene auf die Gedanken und
  die Motivation der Kinder haben.\n\n&nbsp\;\n\nLeitung: Saskia Baisch-Zim
 mer\n\nDienstag\, 29. Oktober 2024\n19.30 – 21.00 Uhr\n\n&nbsp\;\n242-07
 -017\n \n\n 
CATEGORIES:Gesundheit &amp; Selbsterfahrung,Oktober
LOCATION:Frauenbildungszentrum\, Schöne Aussicht 24 \, Bad Homburg\, Hesse
 n\, 61348  \, Deutschland
X-APPLE-STRUCTURED-LOCATION;VALUE=URI;X-ADDRESS=Schöne Aussicht 24 \, Bad 
 Homburg\, Hessen\, 61348  \, Deutschland;X-APPLE-RADIUS=100;X-TITLE=Frauen
 bildungszentrum:geo:0,0
END:VEVENT
BEGIN:VTIMEZONE
TZID:Europe/Berlin
X-LIC-LOCATION:Europe/Berlin
BEGIN:STANDARD
DTSTART:20241027T020000
TZOFFSETFROM:+0200
TZOFFSETTO:+0100
TZNAME:CET
END:STANDARD
END:VTIMEZONE
END:VCALENDAR