BEGIN:VCALENDAR
VERSION:2.0
PRODID:-//wp-events-plugin.com//7.2.3.1//EN
BEGIN:VEVENT
UID:71@frauenbildungszentrum.de
DTSTART;TZID=Europe/Berlin:20231009T180000
DTEND;TZID=Europe/Berlin:20231009T201500
DTSTAMP:20230630T153429Z
URL:https://www.frauenbildungszentrum.de/events/keine-angst-vor-online-bew
 erbungen-1
SUMMARY:Keine Angst vor Online-Bewerbungen 1
DESCRIPTION:E-Mail schicken oder Dokumente „hochladen“ – so geht´s!\
 nEs gibt heute viele Wege\, wie Ihre Bewerbungsunterlagen zum Empfänger k
 ommen können: Über Jobbörsen\, Karriereportale der Unternehmen\, Social
  Media oder per Email\, um nur einige zu nennen.\nDieser Workshop zeigt Ih
 nen die sichersten Wege durch den Dschungel der Bewerbungsverfahren sowie 
 die neuesten Trends. Er macht Ihnen Mut\, den Schritt von der klassischen 
 Bewerbungsmappe zur elektronischen Bewerbung zu tun und kritische Fehler d
 abei zu vermeiden. Teil 3 des vierteiligen Bewerbungstrainings. Jedes Sem
 inar können Sie auch einzeln buchen.\nKursleitung: Angelika Schaack\nEs e
 ntstehen Materialkosten in Höhe von € 3\,--\, die direkt an die Referen
 tin zu zahlen sind.\nMontag\, 9. Oktober 2023\n\n18.00 – 20.15 Uhr\n\n23
 2-09-034\n 
CATEGORIES:Beruf &amp; Finanzen,Oktober
LOCATION:Frauenbildungszentrum\, Schöne Aussicht 24 \, Bad Homburg\, Hesse
 n\, 61348  \, Deutschland
X-APPLE-STRUCTURED-LOCATION;VALUE=URI;X-ADDRESS=Schöne Aussicht 24 \, Bad 
 Homburg\, Hessen\, 61348  \, Deutschland;X-APPLE-RADIUS=100;X-TITLE=Frauen
 bildungszentrum:geo:0,0
END:VEVENT
BEGIN:VTIMEZONE
TZID:Europe/Berlin
X-LIC-LOCATION:Europe/Berlin
BEGIN:DAYLIGHT
DTSTART:20230326T030000
TZOFFSETFROM:+0100
TZOFFSETTO:+0200
TZNAME:CEST
END:DAYLIGHT
END:VTIMEZONE
END:VCALENDAR