BEGIN:VCALENDAR
VERSION:2.0
PRODID:-//wp-events-plugin.com//7.2.3.1//EN
BEGIN:VEVENT
UID:420@frauenbildungszentrum.de
DTSTART;TZID=Europe/Berlin:20250318T180000
DTEND;TZID=Europe/Berlin:20250408T201500
DTSTAMP:20250311T151041Z
URL:https://www.frauenbildungszentrum.de/events/jobsuche-bewerbung-berufli
 cher-erfolg-2
SUMMARY:Jobsuche – Bewerbung – beruflicher Erfolg 2
DESCRIPTION:Die Reise zum neuen Job\nStellen Sie sich vor\, Sie begeben sic
 h auf eine Reise. Natürlich wissen Sie\, wo Sie sind und warum Sie von do
 rt wegwollen. Aber wo genau wollen Sie hin? Und was haben Sie eigentlich a
 lles im Gepäck?\nBerufliche Veränderung\, aus welchen Gründen auch imme
 r\, ist wie eine Reise\, der Aufbruch zu etwas Neuem. So reizvoll das ist\
 , es ist oft mit Unsicherheit\, ja Angst\, verbunden.\nAn vier Abenden gew
 innen Sie Sicherheit und Klarheit:\n\n 	Sie finden heraus\, was gerade Sie
  Ihrem zukünftigen Arbeitgeber zu bieten haben und was Sie von Ihrem näc
 hsten Arbeitsplatz erwarten.\n 	Sie erarbeiten Motivationsschreiben und Le
 benslauf\, die Sie deutlich positiv aus der Masse der BewerberInnen abhebe
 n.\n 	Sie kennen den besten Weg\, an die Jobs zu kommen\, die Sie auch wir
 klich haben wollen: Jobbörsen\, Bewerberportale und verdeckter Stellenmar
 kt.\n 	Und Sie gehen souverän ins nächste Vorstellungsgespräch\, weil S
 ie vorher schon wissen\, was Sie sagen werden.\n\nStellen Sie sich vor\, S
 ie begeben sich auf eine Reise – mit Navi\, Alexa und Ihrer ganz persön
 lichen Reiseleitung in einer Person. Auf geht’s!\nVorhandene Bewerbungsu
 nterlagen bitte mitbringen!\n\n( Es entstehen Materialkosten in Höhe von 
 € 3\,--\, die direkt an die Referentin zu zahlen sind.)\n\nDer Kurs wird
  mit einer gestaffelten Gebühr angeboten:\n\nKursgebühr pro Person bei 2
  Teilnehmerinnen: 170\,-- €\n\nKursgebühr pro Person ab 3 Teilnehmerinn
 en: 115\,-- €\nKursleitung: Angelika Schaack\n4 x Di.\, 18.03. – 08.04
 .2025\n18.00 – 20.15 Uhr\nMindestteilnehmerinnenzahl: 2\n\n&nbsp\;\n251-
 09-032
CATEGORIES:Beruf &amp; Finanzen,März
LOCATION:Frauenbildungszentrum\, Schöne Aussicht 24 \, Bad Homburg\, Hesse
 n\, 61348  \, Deutschland
X-APPLE-STRUCTURED-LOCATION;VALUE=URI;X-ADDRESS=Schöne Aussicht 24 \, Bad 
 Homburg\, Hessen\, 61348  \, Deutschland;X-APPLE-RADIUS=100;X-TITLE=Frauen
 bildungszentrum:geo:0,0
END:VEVENT
BEGIN:VTIMEZONE
TZID:Europe/Berlin
X-LIC-LOCATION:Europe/Berlin
BEGIN:STANDARD
DTSTART:20241027T020000
TZOFFSETFROM:+0200
TZOFFSETTO:+0100
TZNAME:CET
END:STANDARD
BEGIN:DAYLIGHT
DTSTART:20250330T030000
TZOFFSETFROM:+0100
TZOFFSETTO:+0200
TZNAME:CEST
END:DAYLIGHT
END:VTIMEZONE
END:VCALENDAR