BEGIN:VCALENDAR
VERSION:2.0
PRODID:-//wp-events-plugin.com//7.2.3.1//EN
BEGIN:VEVENT
UID:61@frauenbildungszentrum.de
DTSTART;TZID=Europe/Berlin:20231014T140000
DTEND;TZID=Europe/Berlin:20231014T180000
DTSTAMP:20231009T081149Z
URL:https://www.frauenbildungszentrum.de/events/jedem-alter-wohnt-ein-zaub
 er-inne
SUMMARY:Jedem Alter wohnt ein kleiner Zauber inne
DESCRIPTION:Älter werden\, was bedeutet das für mich? Unsicherheit\, Äng
 ste\, Abwehr - oder auch Annehmen\, Zuversicht\, Freude? \nAuf jeden Fall 
 bedeutet es\, dass wir immer mehr auf die letzte Zeit unseres Lebens zugeh
 en.\nIn der vertrauensvollen Atmosphäre der Gruppe wollen wir uns diesen 
 und anderen Fragen mit Meditationen\, Wahrnehmungsübungen\, Gesprächen a
 nnähern.\n&nbsp\;\nLeitung: Gabriele Dingel\nSamstag\, 14. Oktober 2023\n
 \n14.00 – 18.00 Uhr\n\n232-07-016\n\n 
CATEGORIES:Gesundheit &amp; Selbsterfahrung,Oktober
LOCATION:Raum für Lebensenergie\, Fasanenstr. 16\, Bad Homburg\, 61352\, D
 eutschland
X-APPLE-STRUCTURED-LOCATION;VALUE=URI;X-ADDRESS=Fasanenstr. 16\, Bad Hombur
 g\, 61352\, Deutschland;X-APPLE-RADIUS=100;X-TITLE=Raum für Lebensenergie
 :geo:0,0
END:VEVENT
BEGIN:VTIMEZONE
TZID:Europe/Berlin
X-LIC-LOCATION:Europe/Berlin
BEGIN:DAYLIGHT
DTSTART:20230326T030000
TZOFFSETFROM:+0100
TZOFFSETTO:+0200
TZNAME:CEST
END:DAYLIGHT
END:VTIMEZONE
END:VCALENDAR