BEGIN:VCALENDAR
VERSION:2.0
PRODID:-//wp-events-plugin.com//7.2.3.1//EN
BEGIN:VEVENT
UID:832@frauenbildungszentrum.de
DTSTART;TZID=Europe/Berlin:20260316T190000
DTEND;TZID=Europe/Berlin:20260316T210000
DTSTAMP:20251212T113047Z
URL:https://www.frauenbildungszentrum.de/events/ja-zu-gefuehlen-ja-zum-leb
 en
SUMMARY:JA ZU GEFÜHLEN – JA ZUM LEBEN
DESCRIPTION:Vom sinnvollen Umgang mit Gefühlen\n\nGefühle gehören zu uns
 erem Leben dazu - jeden Tag begegnen sie uns und wir reagieren darauf. Sie
  haben nicht nur einen Einfluss auf unser Wohlbefinden und unsere körperl
 ich-geistige Gesundheit\, sondern auch auf unser Handeln.\n\nEinige dieser
  Gefühle empfinden und bewerten wir vielleicht als belastend und wollen s
 ie daher loswerden oder verdrängen. Andere Gefühle gefallen uns und wir 
 versuchen sie wieder zu erleben. Jedes Gefühl ist ein wichtiger Teil von 
 uns und möchte uns mit einer Botschaft unterstützen.\n\nGute und stärke
 nde Gefühle können wir durch Dankbarkeitsübungen und Mentales Training 
 in unserem Alltag vermehren. Die als unangenehm bewerteten Gefühle könne
 n wir zu unserer Selbsterkenntnis nutzen. Hinter jedem Gefühl steckt ein 
 wertvolles Geschenk.\n\nAn diesem Vormittag wird ein Überblick über die 
 Vielzahl von Techniken und Möglichkeiten gegeben\, mit deren Hilfe wir au
 s jedem Gefühl einen Gewinn machen können.\n\nDieser Kurs wird in Kooper
 ation mit der Katholischen Erwachsenenbildung\, Bildungswerk Hochtaunus an
 geboten.\nLeitung: Saskia Baisch-Zimmer\nMontag\, 16. März 2026\n19.00 
 – 21.00 Uhr\n\n&nbsp\;\n261-07-017
CATEGORIES:Gesundheit &amp; Selbsterfahrung,März
LOCATION:Frauenbildungszentrum\, Schöne Aussicht 24 \, Bad Homburg\, Hesse
 n\, 61348  \, Deutschland
X-APPLE-STRUCTURED-LOCATION;VALUE=URI;X-ADDRESS=Schöne Aussicht 24 \, Bad 
 Homburg\, Hessen\, 61348  \, Deutschland;X-APPLE-RADIUS=100;X-TITLE=Frauen
 bildungszentrum:geo:0,0
END:VEVENT
BEGIN:VTIMEZONE
TZID:Europe/Berlin
X-LIC-LOCATION:Europe/Berlin
BEGIN:STANDARD
DTSTART:20251026T020000
TZOFFSETFROM:+0200
TZOFFSETTO:+0100
TZNAME:CET
END:STANDARD
END:VTIMEZONE
END:VCALENDAR