BEGIN:VCALENDAR
VERSION:2.0
PRODID:-//wp-events-plugin.com//7.2.3.1//EN
BEGIN:VEVENT
UID:431@frauenbildungszentrum.de
DTSTART;TZID=Europe/Berlin:20240306T093000
DTEND;TZID=Europe/Berlin:20240424T110000
DTSTAMP:20231213T150403Z
URL:https://www.frauenbildungszentrum.de/events/italienisch-fuer-anfaenger
 innen-und-frauen-mit-geringen-kenntnissen-2
SUMMARY:Italienisch für Anfängerinnen und Frauen mit geringen Kenntnissen
  2
DESCRIPTION:Auffrischungskurs\nIn diesem Kurs für Anfängerinnen und Fraue
 n mit geringen Kenntnisseen in einer kleinen Gruppe stehen das Verstehen u
 nd Sprechen der neuen Sprache im Vordergrund. Dies lernen Sie\, indem Sie 
 anderen zuhören\, antworten und selbst Fragen stellen.\nDeshalb wird vorw
 iegend in der Fremdsprache gesprochen. Lesen und Schreiben stehen zunächs
 t nicht im Vordergrund.\nKursinhalte sind u.a.:\n\n 	häufig verwendete Au
 sdrücke des täglichen Lebens\n 	Sprachressourcen\, um über Ihre Routine
 \, Ihren Hintergrund und Ihr Umfeld zu sprechen und einen dynamischen Aust
 ausch darüber mit anderen zu führen\n\nDas Lehrbuch wird am 1. Kurstag b
 esprochen\n\n&nbsp\;\n\nLeitung: Kirsten Schaper\n5 x Mi.\, 06.03. – 24.
 04.2024\n09.30 – 11.00 Uhr\nMindestteilnehmerinnenzahl: 4\n241-03-312\n
CATEGORIES:März,Sprachkurse
LOCATION:Frauenbildungszentrum\, Schöne Aussicht 24 \, Bad Homburg\, Hesse
 n\, 61348  \, Deutschland
X-APPLE-STRUCTURED-LOCATION;VALUE=URI;X-ADDRESS=Schöne Aussicht 24 \, Bad 
 Homburg\, Hessen\, 61348  \, Deutschland;X-APPLE-RADIUS=100;X-TITLE=Frauen
 bildungszentrum:geo:0,0
END:VEVENT
BEGIN:VTIMEZONE
TZID:Europe/Berlin
X-LIC-LOCATION:Europe/Berlin
BEGIN:STANDARD
DTSTART:20231029T020000
TZOFFSETFROM:+0200
TZOFFSETTO:+0100
TZNAME:CET
END:STANDARD
BEGIN:DAYLIGHT
DTSTART:20240331T030000
TZOFFSETFROM:+0100
TZOFFSETTO:+0200
TZNAME:CEST
END:DAYLIGHT
END:VTIMEZONE
END:VCALENDAR