BEGIN:VCALENDAR
VERSION:2.0
PRODID:-//wp-events-plugin.com//7.2.3.1//EN
BEGIN:VEVENT
UID:391@frauenbildungszentrum.de
DTSTART;TZID=Europe/Berlin:20230928T093000
DTEND;TZID=Europe/Berlin:20231207T110000
DTSTAMP:20230714T141157Z
URL:https://www.frauenbildungszentrum.de/events/italienisch-fuer-anfaenger
 innen-ohne-vorkenntnisse
SUMMARY:Italienisch für Anfängerinnen OHNE Vorkenntnisse
DESCRIPTION:In diesem Anfängerkurs in einer kleinen Gruppe stehen das Vers
 tehen und Sprechen der neuen Sprache im Vordergrund. Dies lernen Sie\, ind
 em Sie anderen zuhören\, antworten und selbst Fragen stellen.\nDeshalb wi
 rd vorwiegend in der Fremdsprache gesprochen. Lesen und Schreiben stehen z
 unächst nicht im Vordergrund.\nKursinhalte sind u.a.:\n\n 	vertraute\, al
 ltägliche Ausdrücke und ganz einfach Sätze verstehen und verwenden\n 	s
 ich und andere vorstellen\, Fragen zur Person stellen und Fragen hierzu be
 antworten\n 	sich auf einfache Art verständigen\, wenn die Gesprächspart
 ner langsam und deutlich sprechen\n\nDas Lehrbuch wird am ersten Kurstag b
 esprochen.\n\n&nbsp\;\nLeitung: Kirsten Schaper\n10 x Do. 28.09. – 07.12
 .2023\,\n\n09.30 – 11.00 Uhr\nDer Kurs findet nicht in den Herbstferien 
 statt\n\n&nbsp\;\n232-03-311\n \n
CATEGORIES:September,Sprachkurse
LOCATION:Frauenbildungszentrum\, Schöne Aussicht 24 \, Bad Homburg\, Hesse
 n\, 61348  \, Deutschland
X-APPLE-STRUCTURED-LOCATION;VALUE=URI;X-ADDRESS=Schöne Aussicht 24 \, Bad 
 Homburg\, Hessen\, 61348  \, Deutschland;X-APPLE-RADIUS=100;X-TITLE=Frauen
 bildungszentrum:geo:0,0
END:VEVENT
BEGIN:VTIMEZONE
TZID:Europe/Berlin
X-LIC-LOCATION:Europe/Berlin
BEGIN:DAYLIGHT
DTSTART:20230326T030000
TZOFFSETFROM:+0100
TZOFFSETTO:+0200
TZNAME:CEST
END:DAYLIGHT
BEGIN:STANDARD
DTSTART:20231029T020000
TZOFFSETFROM:+0200
TZOFFSETTO:+0100
TZNAME:CET
END:STANDARD
END:VTIMEZONE
END:VCALENDAR