BEGIN:VCALENDAR
VERSION:2.0
PRODID:-//wp-events-plugin.com//7.2.3.1//EN
BEGIN:VEVENT
UID:30@frauenbildungszentrum.de
DTSTART;TZID=Europe/Berlin:20230201T193000
DTEND;TZID=Europe/Berlin:20230329T210000
DTSTAMP:20230110T180356Z
URL:https://www.frauenbildungszentrum.de/events/italienisch-fuer-anfaenger
 innen-2
SUMMARY:Italienisch für Anfängerinnen 1 - Onlinekurs
DESCRIPTION:... und Frauen mit geringen Kenntnissen - Kleingruppe\nOnlineku
 rs über MircosoftTeams\nWir arbeiten mit dem Lehrbuch: Dieci A1 (ISBN 978
 -3-19-005647-7).\nIn diesem Anfängerkurs in einer Kleingruppe von vier bi
 s sieben Frauen stehen das Verstehen und Sprechen der neuen Sprache im Vor
 dergrund. Dies lernen Sie\, indem Sie anderen zuhören\, antworten und sel
 bst Fragen stellen.\nDeshalb wird vorwiegend in der Fremdsprache gesproche
 n. Lesen und Schreiben stehen zunächst nicht im Vordergrund.\nKursinhalte
  sind u.a.:\n\n\n 	vertraute\, alltägliche Ausdrücke und ganz einfach S
 ätze verstehen und verwenden\n 	sich und andere vorstellen\, Fragen zur P
 erson stellen und Fragen hierzu beantworten\n 	sich auf einfache Art verst
 ändigen\, wenn die Gesprächspartner langsam und deutlich sprechen\n\nSie
  benötigen eine stabile Internetverbindung und einen Computer mit Webcam 
 und Mikrofon.\nLeitung: Martina Leonardi\n&nbsp\;\n\n9 x Mi.\, 01.02. – 
 29.03.2023\n\n19.30 – 21.00 Uhr\n\n231-03-321
CATEGORIES:Februar,Sprachkurse
LOCATION:#
END:VEVENT
BEGIN:VTIMEZONE
TZID:Europe/Berlin
X-LIC-LOCATION:Europe/Berlin
BEGIN:STANDARD
DTSTART:20221030T020000
TZOFFSETFROM:+0200
TZOFFSETTO:+0100
TZNAME:CET
END:STANDARD
BEGIN:DAYLIGHT
DTSTART:20230326T030000
TZOFFSETFROM:+0100
TZOFFSETTO:+0200
TZNAME:CEST
END:DAYLIGHT
END:VTIMEZONE
END:VCALENDAR