BEGIN:VCALENDAR
VERSION:2.0
PRODID:-//wp-events-plugin.com//7.2.3.1//EN
BEGIN:VEVENT
UID:14@frauenbildungszentrum.de
DTSTART;TZID=Europe/Berlin:20260514T093000
DTEND;TZID=Europe/Berlin:20260604T123000
DTSTAMP:20251216T172418Z
URL:https://www.frauenbildungszentrum.de/events/internet-fuer-seniorinnen
SUMMARY:Internet für Seniorinnen
DESCRIPTION:Voraussetzungen: Windows- und Wordkenntnisse\nDieser Kurs biete
 t ausführlich und ohne Zeitdruck einen Einblick in das Internet\, ein int
 eressantes und nützliches Medium\, welches aus dem heutigen Alltag nicht 
 mehr weg zu denken ist.\nKursinhalte:\n\n\n 	Allgemeine Informationen zum 
 Internet:\n\nAufbau des Internets\, Erklärung der Begriffe\n\n\n 	Surfen 
 im Internet\, Favoriten bzw. Lesezeichen erstellen und verwalten\n 	Fahrpl
 anauskunft bei der Bahn und Ticketbestellung\n 	Online-Banking\, Sicherhei
 t beim Einkaufen im Netz\n 	Suchmaschinen nutzen\n 	Programme herunterlade
 n\n\nLeitung: Andrea Becker\n4 x Do.\, 13.05. – 03.06.2026\n09.30 – 12
 .30 Uhr\nMindestteilnehmerinnenzahl: 4\n\n&nbsp\;\n\n261-02-301\n\n \n 
CATEGORIES:Computer &amp; Handy 60+,Computerkurse,Mai
LOCATION:Frauenbildungszentrum\, Schöne Aussicht 24 \, Bad Homburg\, Hesse
 n\, 61348  \, Deutschland
X-APPLE-STRUCTURED-LOCATION;VALUE=URI;X-ADDRESS=Schöne Aussicht 24 \, Bad 
 Homburg\, Hessen\, 61348  \, Deutschland;X-APPLE-RADIUS=100;X-TITLE=Frauen
 bildungszentrum:geo:0,0
END:VEVENT
BEGIN:VTIMEZONE
TZID:Europe/Berlin
X-LIC-LOCATION:Europe/Berlin
BEGIN:DAYLIGHT
DTSTART:20260329T030000
TZOFFSETFROM:+0100
TZOFFSETTO:+0200
TZNAME:CEST
END:DAYLIGHT
END:VTIMEZONE
END:VCALENDAR