BEGIN:VCALENDAR
VERSION:2.0
PRODID:-//wp-events-plugin.com//7.2.3.1//EN
BEGIN:VEVENT
UID:633@frauenbildungszentrum.de
DTSTART;TZID=Europe/Berlin:20250224T193000
DTEND;TZID=Europe/Berlin:20250224T210000
DTSTAMP:20250108T120103Z
URL:https://www.frauenbildungszentrum.de/events/innere-staerke-fuer-unsere
 -kinder
SUMMARY:INNERE STÄRKE FÜR UNSERE KINDER
DESCRIPTION:Vortrag für interessierte Eltern\, Großeltern und alle\, die 
 mit Kindern zu tun haben\nDas alltägliche Denken hat seine Wurzeln im Kin
 desalter. Deshalb ist das Wissen um die Kraft der Gedanken wichtig im Umga
 ng mit Kindern. Je früher Heranwachsende eine aufbauende Sprache und stä
 rkende Gedanken kennenlernen\, desto besser ist es für sie. Wenn sie sich
  dann sogar ihrer mentalen Kräfte bewusst sind und Methoden erlernen\, mi
 t denen sie ihr Wohlbefinden und ihr Selbstbewusstsein stärken können\, 
 profitieren sie dadurch ein Leben lang.\n\nEine konstruktive gedankliche A
 usrichtung wirkt sich unter anderem positiv auf die persönliche Entwicklu
 ng\, die schulischen Leistungen und das Selbstbild der Kinder aus. Es hat 
 einen Grund\, weshalb viele Spitzensportler und Manager das sogenannte Men
 tale Training für sich nutzen.\n\nSie erfahren in diesem Vortrag\, wie Si
 e die Kinder in Ihrem Umfeld nachhaltig stärken können und was unter (Ki
 nder-) Mentaltraining verstanden wird. Sie erleben anhand einiger Übungen
  selbst\, wie die Kraft der Gedanken Ihr Leben direkt beeinflusst und welc
 hen großen Einfluss Erwachsene auf die Gedanken und die Motivation der Ki
 nder haben.\n\n&nbsp\;\nLeitung: Saskia Baisch-Zimmer\nMontag\, 24. Februa
 r 2025\n19.30 – 21.00 Uhr\n\nDieser Kurs wird für Frauen und Männer an
 geboten.\n\n251-07-017\n\n 
CATEGORIES:Februar,Gesundheit &amp; Selbsterfahrung
LOCATION:Frauenbildungszentrum\, Schöne Aussicht 24 \, Bad Homburg\, Hesse
 n\, 61348  \, Deutschland
X-APPLE-STRUCTURED-LOCATION;VALUE=URI;X-ADDRESS=Schöne Aussicht 24 \, Bad 
 Homburg\, Hessen\, 61348  \, Deutschland;X-APPLE-RADIUS=100;X-TITLE=Frauen
 bildungszentrum:geo:0,0
END:VEVENT
BEGIN:VTIMEZONE
TZID:Europe/Berlin
X-LIC-LOCATION:Europe/Berlin
BEGIN:STANDARD
DTSTART:20241027T020000
TZOFFSETFROM:+0200
TZOFFSETTO:+0100
TZNAME:CET
END:STANDARD
END:VTIMEZONE
END:VCALENDAR