BEGIN:VCALENDAR
VERSION:2.0
PRODID:-//wp-events-plugin.com//7.2.3.1//EN
BEGIN:VEVENT
UID:634@frauenbildungszentrum.de
DTSTART;TZID=Europe/Berlin:20250927T100000
DTEND;TZID=Europe/Berlin:20250927T130000
DTSTAMP:20250704T120036Z
URL:https://www.frauenbildungszentrum.de/events/in-der-mitte-des-lebens
SUMMARY:In der Mitte des Lebens
DESCRIPTION:Eine Standortbestimmung\nDie Lebensmitte ist für viele eine Ze
 it der Veränderung: alte Rollen lösen sich\, neue Fragen tauchen auf\, u
 nd oft stellt sich das Bedürfnis ein\, das eigene Leben neu zu betrachten
  und zu gestalten.\nDieser Workshop lädt Sie ein\, innezuhalten\, sich se
 lbst neu zu begegnen und Ihre nächsten Schritte bewusst zu gestalten.\nWa
 s Sie erwartet:\n• Reflexion und Orientierung: Eine Bestandsaufnahme der
  eigenen Lebenswege und Ihrer aktuellen Lebenssituation.\n• Neue Perspek
 tiven und Ziele: Finden Sie heraus\, welche Wünsche und Herzensprojekte S
 ie verwirklichen und welche Ziele Sie ansteuern möchten\n• Selbstfürso
 rge und Achtsamkeit: Übungen und Impulse zur Stärkung des Wohlbefindens\
 nBitte tragen Sie bequeme Kleidung und bringen Sie eine Decke\, warme Sock
 en und eine Iso-Matte mit.\n\n&nbsp\;\n\nLeitung: Claudia Schmidt\n\nSa.\,
  27. September 2025\n10.00 – 13.00 Uhr\n\n252-07-026
CATEGORIES:Gesundheit &amp; Selbsterfahrung,September
LOCATION:Frauenbildungszentrum\, Schöne Aussicht 24 \, Bad Homburg\, Hesse
 n\, 61348  \, Deutschland
X-APPLE-STRUCTURED-LOCATION;VALUE=URI;X-ADDRESS=Schöne Aussicht 24 \, Bad 
 Homburg\, Hessen\, 61348  \, Deutschland;X-APPLE-RADIUS=100;X-TITLE=Frauen
 bildungszentrum:geo:0,0
END:VEVENT
BEGIN:VTIMEZONE
TZID:Europe/Berlin
X-LIC-LOCATION:Europe/Berlin
BEGIN:DAYLIGHT
DTSTART:20250330T030000
TZOFFSETFROM:+0100
TZOFFSETTO:+0200
TZNAME:CEST
END:DAYLIGHT
END:VTIMEZONE
END:VCALENDAR