BEGIN:VCALENDAR
VERSION:2.0
PRODID:-//wp-events-plugin.com//7.2.3.1//EN
BEGIN:VEVENT
UID:65@frauenbildungszentrum.de
DTSTART;TZID=Europe/Berlin:20230414T000000
DTEND;TZID=Europe/Berlin:20230415T000000
DTSTAMP:20230404T080128Z
URL:https://www.frauenbildungszentrum.de/events/ich-selbst-sein
SUMMARY:„Ich selbst sein"
DESCRIPTION:Was sich so leicht anhört "Ich selbst sein" ist doch oft so sc
 hwierig. Erziehungsbedingte oder auch durch Lebensumstände hervorgerufene
  Blockaden nehmen uns viel von unserer Kraft und Lebensfreude.\nDurch das 
 Wahrnehmen des eigenen Körpers\, das Erkennen der eigenen Geschichte und 
 die liebevolle Annahme unseres inneren Kindes kann die natürliche Lebense
 nergie wieder zum Fließen kommen und uns zu mehr Wohlbefinden und Freude 
 im Alltag führen.\nKörperenergiearbeit\, Gespräche und Meditationen wer
 den den inneren Prozess fördern und begleiten.\nLeitung: Gabriele Dingel\
 nFreitag\, 14. April 2023\n18.00 – 19.30 Uhr\,\nund\nSamstag\, 15. April
  2023\n10.30 – 16.30 Uhr\n231-07-015
CATEGORIES:April,Gesundheit &amp; Selbsterfahrung
LOCATION:Raum für Lebensenergie\, Fasanenstr. 16\, Bad Homburg\, 61352\, D
 eutschland
X-APPLE-STRUCTURED-LOCATION;VALUE=URI;X-ADDRESS=Fasanenstr. 16\, Bad Hombur
 g\, 61352\, Deutschland;X-APPLE-RADIUS=100;X-TITLE=Raum für Lebensenergie
 :geo:0,0
END:VEVENT
BEGIN:VTIMEZONE
TZID:Europe/Berlin
X-LIC-LOCATION:Europe/Berlin
BEGIN:DAYLIGHT
DTSTART:20230326T030000
TZOFFSETFROM:+0100
TZOFFSETTO:+0200
TZNAME:CEST
END:DAYLIGHT
END:VTIMEZONE
END:VCALENDAR