BEGIN:VCALENDAR
VERSION:2.0
PRODID:-//wp-events-plugin.com//7.2.3.1//EN
BEGIN:VEVENT
UID:68@frauenbildungszentrum.de
DTSTART;TZID=Europe/Berlin:20231106T180000
DTEND;TZID=Europe/Berlin:20231106T201500
DTSTAMP:20230630T152806Z
URL:https://www.frauenbildungszentrum.de/events/ich-bewerbe-mich-2
SUMMARY:Ich bewerbe mich 2
DESCRIPTION:Aber was möchte ich genau und was habe ich dafür zu bieten?\n
 Viele Bewerbungen scheitern\, weil diese wichtigen Fragen nicht klar beant
 wortet sind. Es ist nicht leicht\, die eigenen fachlichen und persönliche
 n Stärken zu benennen und glaubwürdig zu belegen. Ebenso schwierig ist e
 s\, eine genaue Vorstellung vom nächsten Arbeitsplatz zu entwickeln\, Ste
 llenbezeichnung und Region sind dafür nur der Anfang.\nIn diesem Workshop
  erarbeiten Sie Ihr individuelles berufsbezogenes Profil. Wir besprechen S
 ituationen\, in denen Sie es gezielt einsetzen und wie Sie sich damit im W
 ettbewerb um einen neuen Job den entscheidenden Vorteil verschaffen. Ihre 
 berufliche Zielsetzung herauszuarbeiten ist der zweite Schwerpunkt an dies
 em Abend. Es geht schließlich um viel mehr als nur den neuen Job! Teil 1 
 des vierteiligen Bewerbungstrainings. Jedes Seminar können Sie auch einze
 ln buchen.\nKursleitung: Angelika Schaack\n\nEs entstehen Materialkosten i
 n Höhe von € 3\,--\, die direkt an die Referentin zu zahlen sind.\nMont
 ag\, 6. November 2023\n\n18.00 – 20.15 Uhr\n\n&nbsp\;\n\n232-09-036\n\n
  
CATEGORIES:Beruf &amp; Finanzen,November
LOCATION:Frauenbildungszentrum\, Schöne Aussicht 24 \, Bad Homburg\, Hesse
 n\, 61348  \, Deutschland
X-APPLE-STRUCTURED-LOCATION;VALUE=URI;X-ADDRESS=Schöne Aussicht 24 \, Bad 
 Homburg\, Hessen\, 61348  \, Deutschland;X-APPLE-RADIUS=100;X-TITLE=Frauen
 bildungszentrum:geo:0,0
END:VEVENT
BEGIN:VTIMEZONE
TZID:Europe/Berlin
X-LIC-LOCATION:Europe/Berlin
BEGIN:STANDARD
DTSTART:20231029T020000
TZOFFSETFROM:+0200
TZOFFSETTO:+0100
TZNAME:CET
END:STANDARD
END:VTIMEZONE
END:VCALENDAR