BEGIN:VCALENDAR
VERSION:2.0
PRODID:-//wp-events-plugin.com//7.2.3.1//EN
BEGIN:VEVENT
UID:63@frauenbildungszentrum.de
DTSTART;TZID=Europe/Berlin:20260320T180000
DTEND;TZID=Europe/Berlin:20260320T200000
DTSTAMP:20251212T115930Z
URL:https://www.frauenbildungszentrum.de/events/hochsensibel-zwischen-beru
 f-und-berufung
SUMMARY:Hochsensibel zwischen Beruf und  Berufung
DESCRIPTION:Hochsensible Menschen\, ob als Mitarbeiterin\, Führungskraft o
 der Selbständige/r\, haben ein starkes Bedürfnis nach Sinn in ihrem Lebe
 n. Das gilt besonders auch für ihren Beruf. Viele fragen sich\, ob es ein
 e Berufung gibt.\nDoch die Anforderungen\, die Komplexität und der Zeitdr
 uck im Arbeitsumfeld wachsen. Meist spüren Hochsensible dies als Erste. F
 ühlen Sie sich wohl in ihrem Beruf und Berufsumfeld? Diese Frage öffnet 
 den Weg\, sich Problemen\, Stolpersteinen\, aber auch dem eigenen Potenzia
 l als Hochsensible zu zuwenden und Veränderungen zu wagen.\nIn meinem Vor
 trag möchte ich auf die Fähigkeiten hochsensibler Menschen hinweisen\, P
 robleme aufzeigen\, aber auch Wege der Veränderung zeigen\, damit ein erf
 ülltes berufliches Leben möglich wird.\nLeitung: Claudia Lange\nFreitag\
 , 20. März 2026\n18.00 – 20.00 Uhr\n\n&nbsp\;\n261-07-022
CATEGORIES:Gesundheit &amp; Selbsterfahrung,März
LOCATION:Frauenbildungszentrum\, Schöne Aussicht 24 \, Bad Homburg\, Hesse
 n\, 61348  \, Deutschland
X-APPLE-STRUCTURED-LOCATION;VALUE=URI;X-ADDRESS=Schöne Aussicht 24 \, Bad 
 Homburg\, Hessen\, 61348  \, Deutschland;X-APPLE-RADIUS=100;X-TITLE=Frauen
 bildungszentrum:geo:0,0
END:VEVENT
BEGIN:VTIMEZONE
TZID:Europe/Berlin
X-LIC-LOCATION:Europe/Berlin
BEGIN:STANDARD
DTSTART:20251026T020000
TZOFFSETFROM:+0200
TZOFFSETTO:+0100
TZNAME:CET
END:STANDARD
END:VTIMEZONE
END:VCALENDAR