BEGIN:VCALENDAR
VERSION:2.0
PRODID:-//wp-events-plugin.com//7.2.3.1//EN
BEGIN:VEVENT
UID:367@frauenbildungszentrum.de
DTSTART;TZID=Europe/Berlin:20251024T180000
DTEND;TZID=Europe/Berlin:20251024T200000
DTSTAMP:20250704T114746Z
URL:https://www.frauenbildungszentrum.de/events/hochsensibel-in-der-partne
 rschaft
SUMMARY:Hochsensibel in der Partnerschaft
DESCRIPTION:Für Hochsensible können Liebesbeziehungen eine Bereicherung\,
  aber auch eine Herausforderung sein. Schon das Verlieben kann sehr intens
 iv erlebt werden und zu nicht unerheblichem Stress führen.\nWie kann eine
  Beziehung gelingen? Wo sind Stolpersteine? Was ist hilfreich für ein gl
 ückliches Miteinander? In meinem Vortrag möchte ich informieren\, anrege
 n und Mut machen. Dabei ist auch Raum für Fragen und Austausch.\nLeitung:
  Claudia Lange\nFreitag\, 24. Oktober 2025\n18.00 – 20.00 Uhr\n\n252-07-
 022\n\n \n 
CATEGORIES:Gesundheit &amp; Selbsterfahrung,Oktober
LOCATION:Frauenbildungszentrum\, Schöne Aussicht 24 \, Bad Homburg\, Hesse
 n\, 61348  \, Deutschland
X-APPLE-STRUCTURED-LOCATION;VALUE=URI;X-ADDRESS=Schöne Aussicht 24 \, Bad 
 Homburg\, Hessen\, 61348  \, Deutschland;X-APPLE-RADIUS=100;X-TITLE=Frauen
 bildungszentrum:geo:0,0
END:VEVENT
BEGIN:VTIMEZONE
TZID:Europe/Berlin
X-LIC-LOCATION:Europe/Berlin
BEGIN:DAYLIGHT
DTSTART:20250330T030000
TZOFFSETFROM:+0100
TZOFFSETTO:+0200
TZNAME:CEST
END:DAYLIGHT
END:VTIMEZONE
END:VCALENDAR