BEGIN:VCALENDAR
VERSION:2.0
PRODID:-//wp-events-plugin.com//7.2.3.1//EN
BEGIN:VEVENT
UID:564@frauenbildungszentrum.de
DTSTART;TZID=Europe/Berlin:20251128T090000
DTEND;TZID=Europe/Berlin:20251128T120000
DTSTAMP:20250701T092824Z
URL:https://www.frauenbildungszentrum.de/events/hilfe-mein-handy-macht-nic
 ht-was-ich-will-3
SUMMARY:Hilfe\, mein Handy macht nicht was ich will!
DESCRIPTION:Voraussetzungen: Grundkenntnisse Internet und Handy\nSie nutzen
  Ihr Handy schon regelmäßig\, stehen aber immer wieder mit dem Gerät au
 f dem Kriegsfuß?\nKein Problem! In diesem Workshop beantworten wir prakti
 sche Fragen beim Bedienen von Handys\, erklären den sachgemäßen Umgang 
 und zeigen Ihnen nützliche Anwendungen und Kniffe\, so dass Sie noch einf
 acher mit ihrem Gerät zurechtkommen und mehr Spaß haben.\nLeitung: Stefa
 nie Fischer\nFreitag\, 28. November 2025\n09.00 – 12.00 Uhr\nMindestteil
 nehmerinnenzahl: 4\n\n252-01-902\n\n 
CATEGORIES:Computer Spezial,Computerkurse,November
LOCATION:Frauenbildungszentrum\, Schöne Aussicht 24 \, Bad Homburg\, Hesse
 n\, 61348  \, Deutschland
X-APPLE-STRUCTURED-LOCATION;VALUE=URI;X-ADDRESS=Schöne Aussicht 24 \, Bad 
 Homburg\, Hessen\, 61348  \, Deutschland;X-APPLE-RADIUS=100;X-TITLE=Frauen
 bildungszentrum:geo:0,0
END:VEVENT
BEGIN:VTIMEZONE
TZID:Europe/Berlin
X-LIC-LOCATION:Europe/Berlin
BEGIN:STANDARD
DTSTART:20251026T020000
TZOFFSETFROM:+0200
TZOFFSETTO:+0100
TZNAME:CET
END:STANDARD
END:VTIMEZONE
END:VCALENDAR