BEGIN:VCALENDAR
VERSION:2.0
PRODID:-//wp-events-plugin.com//7.2.3.1//EN
BEGIN:VEVENT
UID:833@frauenbildungszentrum.de
DTSTART;TZID=Europe/Berlin:20250921T100000
DTEND;TZID=Europe/Berlin:20250921T153000
DTSTAMP:20250722T110029Z
URL:https://www.frauenbildungszentrum.de/events/herbstkraeuterkurs
SUMMARY:Herbstkräuterkurs
DESCRIPTION:Wild- und Heilkräuter kennenlernen und anwenden\n\nIn diesem K
 räuterseminar wollen wir zuerst ausgesuchte Kräuter\, Früchte und Wurze
 ln im Kirdorfer Feld sammeln\, um sie dann anschließend im Frauenbildungs
 zentrum weiterzuverarbeiten.\n\nWir werden verschiedene pflanzliche Rezept
 uren für die Hausapotheke und den Wintervorrat herstellen.\n\nBitte zwei 
 große saubere Küchentücher aus Baumwolle oder Leinen\, leere Schraubgl
 äser und kleine Flaschen mit großer Öffnung\, Messer und Holzbrettchen 
 und zum Sammeln Schere\, Körbchen und Stoffbeutel mitbringen.\n\n&nbsp\;\
 nLeitung: Juliane Bergmann\nDieser Kurs wird für Frauen und Männer angeb
 oten.\n( Es entstehen noch Materialkosten in Höhe von € 10\,--\, die di
 rekt an die Referentin zu zahlen sind. )\nDieser Kurs wird in Kooperation 
 mit der Katholischen Erwachsenenbildung\, Bildungswerk Hochtaunus angebote
 n.\nSonntag\, 21. September 2025\n10.00 – 15.30 Uhr\n\n252-07-015\n 
CATEGORIES:Gesundheit &amp; Selbsterfahrung,September
LOCATION:Kirdorfer Feld\, Usinger Weg 90\, Bad Homburg\, Deutschland
X-APPLE-STRUCTURED-LOCATION;VALUE=URI;X-ADDRESS=Usinger Weg 90\, Bad Hombur
 g\, Deutschland;X-APPLE-RADIUS=100;X-TITLE=Kirdorfer Feld:geo:0,0
END:VEVENT
BEGIN:VTIMEZONE
TZID:Europe/Berlin
X-LIC-LOCATION:Europe/Berlin
BEGIN:DAYLIGHT
DTSTART:20250330T030000
TZOFFSETFROM:+0100
TZOFFSETTO:+0200
TZNAME:CEST
END:DAYLIGHT
END:VTIMEZONE
END:VCALENDAR