BEGIN:VCALENDAR
VERSION:2.0
PRODID:-//wp-events-plugin.com//7.2.3.1//EN
BEGIN:VEVENT
UID:127@frauenbildungszentrum.de
DTSTART;TZID=Europe/Berlin:20230424T193000
DTEND;TZID=Europe/Berlin:20230717T203000
DTSTAMP:20230404T103409Z
URL:https://www.frauenbildungszentrum.de/events/hatha-yoga-2
SUMMARY:Hatha-Yoga 2 (Anmeldung nur auf Warteliste)
DESCRIPTION:Yoga ist ein ganzheitlicher Gesundheitsweg\, der die Achtsamkei
 t für Körper\, Geist und Seele fördert und von jedermann praktiziert we
 rden kann.\nDie Körperübungen werden mit der Atmung geführt und lösen 
 Verspannungen auf. Die Muskeln und Sehnen werden gekräftigt\, die Wirbels
 äule\, das Knochensystem sowie die Funktion der inneren Organe und das Ne
 rvensystem gestärkt. Yoga hat das Ziel\, ein Gleichgewicht zwischen Aktiv
 ität und Ruhe zu erreichen und das Wohlbefinden zu steigern.\nBitte beque
 me Kleidung\, Decke und Iso- / Yogamatte mitbringen.\nLeitung: Mechthild K
 retzschmar\n11 x Mo.\, 24.04. – 17.07.2023\n\n19.30 – 20.30 Uhr\n(Ein 
 Schnupperabend sowie ein späterer Einstieg sind jederzeit möglich.)\n231
 -05-212
CATEGORIES:April,Gesundheit &amp; Selbsterfahrung,Sport &amp; Bewegung
LOCATION:Vereinshaus Ober-Eschbach\, 1. OG\, Kirchplatz 3\, Bad Homburg\, D
 eutschland
X-APPLE-STRUCTURED-LOCATION;VALUE=URI;X-ADDRESS=Kirchplatz 3\, Bad Homburg\
 , Deutschland;X-APPLE-RADIUS=100;X-TITLE=Vereinshaus Ober-Eschbach\, 1. OG
 :geo:0,0
END:VEVENT
BEGIN:VTIMEZONE
TZID:Europe/Berlin
X-LIC-LOCATION:Europe/Berlin
BEGIN:DAYLIGHT
DTSTART:20230326T030000
TZOFFSETFROM:+0100
TZOFFSETTO:+0200
TZNAME:CEST
END:DAYLIGHT
END:VTIMEZONE
END:VCALENDAR