BEGIN:VCALENDAR
VERSION:2.0
PRODID:-//wp-events-plugin.com//7.2.3.1//EN
BEGIN:VEVENT
UID:766@frauenbildungszentrum.de
DTSTART;TZID=Europe/Berlin:20251020T191500
DTEND;TZID=Europe/Berlin:20251201T203000
DTSTAMP:20250629T200113Z
URL:https://www.frauenbildungszentrum.de/events/hatha-yoga-2-3
SUMMARY:Hatha-Yoga 2
DESCRIPTION:Yoga ist ein ganzheitlicher Gesundheitsweg\, der die Achtsamkei
 t für Körper\, Geist und Seele fördert und von jedermann praktiziert we
 rden kann.\nDie Körperübungen werden mit der Atmung geführt und lösen 
 Verspannungen auf. Die Muskeln und Sehnen werden gekräftigt\, die Wirbels
 äule\, das Knochensystem sowie die Funktion der inneren Organe und das Ne
 rvensystem gestärkt. Yoga hat das Ziel\, ein Gleichgewicht zwischen Aktiv
 ität und Ruhe zu erreichen und das Wohlbefinden zu steigern.\nBitte beque
 me Kleidung\, Decke und Iso- / Yogamatte mitbringen.\nLeitung: Mechthild K
 retzschmar\n7 x Mo.\, 20.10. – 01.12.2025\n19.15 – 20.30 Uhr\n\n&nbsp\
 ;\n(Ein Schnupperabend sowie ein späterer Einstieg sind jederzeit möglic
 h.)\n252-05-212
CATEGORIES:Gesundheit &amp; Selbsterfahrung,Oktober,Sport &amp; Bewegung
LOCATION:Vereinshaus Ober-Eschbach\, 1. OG\, Kirchplatz 3\, Bad Homburg\, D
 eutschland
X-APPLE-STRUCTURED-LOCATION;VALUE=URI;X-ADDRESS=Kirchplatz 3\, Bad Homburg\
 , Deutschland;X-APPLE-RADIUS=100;X-TITLE=Vereinshaus Ober-Eschbach\, 1. OG
 :geo:0,0
END:VEVENT
BEGIN:VTIMEZONE
TZID:Europe/Berlin
X-LIC-LOCATION:Europe/Berlin
BEGIN:DAYLIGHT
DTSTART:20250330T030000
TZOFFSETFROM:+0100
TZOFFSETTO:+0200
TZNAME:CEST
END:DAYLIGHT
BEGIN:STANDARD
DTSTART:20251026T020000
TZOFFSETFROM:+0200
TZOFFSETTO:+0100
TZNAME:CET
END:STANDARD
END:VTIMEZONE
END:VCALENDAR