BEGIN:VCALENDAR
VERSION:2.0
PRODID:-//wp-events-plugin.com//7.2.3.1//EN
BEGIN:VEVENT
UID:64@frauenbildungszentrum.de
DTSTART;TZID=Europe/Berlin:20231202T100000
DTEND;TZID=Europe/Berlin:20231202T130000
DTSTAMP:20231024T110308Z
URL:https://www.frauenbildungszentrum.de/events/handreflexzonenmassage
SUMMARY:Handreflexzonenmassage
DESCRIPTION:Bei der Handreflexzonenmassage handelt es sich um eine sanfte A
 kupressurbehandlung\, die Sie an sich selbst jederzeit durchführen könne
 n.\nJede Zone unserer Hand korrespondiert mit einem bestimmten Teil unsere
 s Körpers\, der in 10 Längszonen eingeteilt wird. Durch den Druck auf di
 e Hände kann man entweder stimulieren oder betäuben und somit können ge
 zielt bestimmte Reaktionen hervorgerufen werden.\nDie Reflexzonentherapie 
 stärkt den Kreislauf\, normalisiert die Organfunktionen\, baut Stress ab 
 und regt die Selbstheilungskräfte des Körpers an.\nBitte bequeme Kleidun
 g und ausreichend zum Trinken mitbringen.\nLeitung: Freia Meike Steinhäus
 er\nSamstag\, 2. Dezember 2023\n\n10.00 – 13.00 Uhr\n\n&nbsp\;\n\n232-07
 -012\n 
CATEGORIES:Dezember,Gesundheit &amp; Selbsterfahrung
LOCATION:Frauenbildungszentrum\, Schöne Aussicht 24 \, Bad Homburg\, Hesse
 n\, 61348  \, Deutschland
X-APPLE-STRUCTURED-LOCATION;VALUE=URI;X-ADDRESS=Schöne Aussicht 24 \, Bad 
 Homburg\, Hessen\, 61348  \, Deutschland;X-APPLE-RADIUS=100;X-TITLE=Frauen
 bildungszentrum:geo:0,0
END:VEVENT
BEGIN:VTIMEZONE
TZID:Europe/Berlin
X-LIC-LOCATION:Europe/Berlin
BEGIN:STANDARD
DTSTART:20231029T020000
TZOFFSETFROM:+0200
TZOFFSETTO:+0100
TZNAME:CET
END:STANDARD
END:VTIMEZONE
END:VCALENDAR