BEGIN:VCALENDAR
VERSION:2.0
PRODID:-//wp-events-plugin.com//7.2.3.1//EN
BEGIN:VEVENT
UID:555@frauenbildungszentrum.de
DTSTART;TZID=Europe/Berlin:20260425T100000
DTEND;TZID=Europe/Berlin:20260425T140000
DTSTAMP:20251212T120950Z
URL:https://www.frauenbildungszentrum.de/events/hand-und-fussreflexzonenma
 ssage
SUMMARY:Hand- und Fußreflexzonenmassage
DESCRIPTION:Die Reflexzonenmassage der Hände und Füße unterscheidet sich
  nur unwesentlich. Es handelt sich hierbei um eine sanfte Druckmassage\, d
 ie hauptsächlich mit einem oder beiden Daumen durchgeführt wird.\n\nJede
  Zone unserer Hand und unseres Fußes korrespondiert mit einem bestimmten 
 Teil unseres Körpers. Durch die Berührung der Reflexpunkte\, die entwede
 r sanft oder auch fester sein kann\, stimuliert man Nervenimpulse\, die zu
  dem jeweiligen Körperbereich wandern.\n\nDamit kann man eine Entspannung
  erreichen\, aber auch die Aktivierung der Selbstheilungskräfte\, die Lin
 derung von gesundheitlichen Beschwerden und das Lösen von Blockaden.\n\nB
 itte bequeme Kleidung\, eine Isomatte und ausreichend zum Trinken mitbring
 en.\n\n&nbsp\;\nLeitung: Freia M. Steinhäuser\nSamstag\, 25.April 2026\n1
 0.00 – 14.00 Uhr\n\n&nbsp\;\n\n261-07-012\n 
CATEGORIES:April,Gesundheit &amp; Selbsterfahrung
LOCATION:Frauenbildungszentrum\, Schöne Aussicht 24 \, Bad Homburg\, Hesse
 n\, 61348  \, Deutschland
X-APPLE-STRUCTURED-LOCATION;VALUE=URI;X-ADDRESS=Schöne Aussicht 24 \, Bad 
 Homburg\, Hessen\, 61348  \, Deutschland;X-APPLE-RADIUS=100;X-TITLE=Frauen
 bildungszentrum:geo:0,0
END:VEVENT
BEGIN:VTIMEZONE
TZID:Europe/Berlin
X-LIC-LOCATION:Europe/Berlin
BEGIN:DAYLIGHT
DTSTART:20260329T030000
TZOFFSETFROM:+0100
TZOFFSETTO:+0200
TZNAME:CEST
END:DAYLIGHT
END:VTIMEZONE
END:VCALENDAR