BEGIN:VCALENDAR
VERSION:2.0
PRODID:-//wp-events-plugin.com//7.2.3.1//EN
BEGIN:VEVENT
UID:641@frauenbildungszentrum.de
DTSTART;TZID=Europe/Berlin:20260414T180000
DTEND;TZID=Europe/Berlin:20260414T193000
DTSTAMP:20251212T121142Z
URL:https://www.frauenbildungszentrum.de/events/gutes-sehen-im-digitalen-a
 lltag-online
SUMMARY:GESUNDES SEHEN IM DIGITALEN ALLTAG – online
DESCRIPTION:Bildschirmarbeit mit entspanntem Sehen meistern\nLanges Arbeite
 n am Bildschirm kann Ihre Augen belasten – doch mit dem richtigen Sehver
 halten und gezielten Pausen können Sie Ihre Sehkraft stärken und Beschwe
 rden vorbeugen. In diesem Online-Kurs lernen Sie\, wie Sie Ihre Augen rege
 nerieren und entspannen können\, um den Herausforderungen des digitalen A
 lltags mit Leichtigkeit zu begegnen.\n\nEs erwartet Sie nützliches Hinter
 grundwissen\, praktische Tipps zur Augengesundheit\, eine geführte Medita
 tion und hilfreiche Selbsthilfe-Sequenzen.\n\nDas Online-Seminar wird übe
 r die Plattform ZOOM durchgeführt. Voraussetzung zur Teilnahme ist eine I
 nternetverbindung\, sowie ein Tablet oder Laptop/Computer mit Kamera. Ein 
 Mikrofon wird empfohlen. Sie erhalten rechtzeitig vor Kursbeginn per E-Mai
 l einen Link zu Ihrem virtuellen Kursraum.\n\nBitte tragen Sie während de
 r Augenschule keine Kontaktlinsen und kleiden sich bequem. Die Augenschule
  ersetzt keine augenmedizinische Untersuchung oder Behandlung.\n\nEin Kurs
  für alle\, die ihre Augen stärken wollen – nicht nur für Frauen.\nLe
 itung: Petra Goebel\nOnline-Veranstaltung über Zoom\n\nDienstag\, 14. Apr
 il 2026\n18.00 – 19.30 Uhr\n\n261-07-021\n\n \n 
CATEGORIES:April,Gesundheit &amp; Selbsterfahrung
LOCATION:#
END:VEVENT
BEGIN:VTIMEZONE
TZID:Europe/Berlin
X-LIC-LOCATION:Europe/Berlin
BEGIN:DAYLIGHT
DTSTART:20260329T030000
TZOFFSETFROM:+0100
TZOFFSETTO:+0200
TZNAME:CEST
END:DAYLIGHT
END:VTIMEZONE
END:VCALENDAR