BEGIN:VCALENDAR
VERSION:2.0
PRODID:-//wp-events-plugin.com//7.2.3.1//EN
BEGIN:VEVENT
UID:401@frauenbildungszentrum.de
DTSTART;TZID=Europe/Berlin:20240417T180000
DTEND;TZID=Europe/Berlin:20240417T210000
DTSTAMP:20231205T111323Z
URL:https://www.frauenbildungszentrum.de/events/grundlagen-der-suchmaschin
 enoptimierung-und-lokalen-sichtbarkeit
SUMMARY:Grundlagen der Suchmaschinenoptimierung und lokalen Sichtbarkeit
DESCRIPTION:Voraussetzungen: eigene Homepage\, Google-Konto\nEin Grundkurs 
 für alle die eine Homepage haben und / oder betreuen. Was können Sie sel
 bst ändern\, optimieren und hinzufügen um besser gefunden zu werden?\nWi
 r sprechen über Suchworte und wo diese optimalerweise untergebracht werde
 n\, entsprechende Zielgruppen und die Sichtbarkeit auf Google-Maps.\nAuße
 rdem beschäftigen wir uns mit den Lieblingsfehlern und wie wir diese verm
 eiden. Zusätzlich klären wir die Frage\, was man auf Social Media bewirk
 en kann - und was nicht.\nLeitung: Andrea Becker\nMittwoch\, 17. April 202
 4\n18.00 – 21.00 Uhr\n\n&nbsp\;\n\nMindestteilnehmerinnenzahl: 4\n\n241-
 01-304\n\n 
CATEGORIES:April,Computer Spezial,Computerkurse
LOCATION:Frauenbildungszentrum\, Schöne Aussicht 24 \, Bad Homburg\, Hesse
 n\, 61348  \, Deutschland
X-APPLE-STRUCTURED-LOCATION;VALUE=URI;X-ADDRESS=Schöne Aussicht 24 \, Bad 
 Homburg\, Hessen\, 61348  \, Deutschland;X-APPLE-RADIUS=100;X-TITLE=Frauen
 bildungszentrum:geo:0,0
END:VEVENT
BEGIN:VTIMEZONE
TZID:Europe/Berlin
X-LIC-LOCATION:Europe/Berlin
BEGIN:DAYLIGHT
DTSTART:20240331T030000
TZOFFSETFROM:+0100
TZOFFSETTO:+0200
TZNAME:CEST
END:DAYLIGHT
END:VTIMEZONE
END:VCALENDAR