BEGIN:VCALENDAR
VERSION:2.0
PRODID:-//wp-events-plugin.com//7.2.3.1//EN
BEGIN:VEVENT
UID:132@frauenbildungszentrum.de
DTSTART;TZID=Europe/Berlin:20250127T161500
DTEND;TZID=Europe/Berlin:20250317T174500
DTSTAMP:20241211T183321Z
URL:https://www.frauenbildungszentrum.de/events/golden-yoga
SUMMARY:Golden Yoga 1
DESCRIPTION:Eine sanfte Variation des Hatha-Yoga\nYoga ist ein aus Indien s
 tammendes ca. 3.000 Jahre altes Übungssystem zur Gesunderhaltung von Kör
 per\, Geist und Seele.\nYoga-Haltungen verbessern den Gleichgewichtssinn\,
  verkürzte Sehnen werden sanft gedehnt\, die Rückenmuskulatur wird gest
 ärkt\, Herz und Kreislauf angeregt und der Stress gemildert.\nLangsamkeit
 \, Ruhe und Gleichmäßigkeit liegen im Wesen des Yoga\, jede Kursstunde i
 st ähnlich aufgebaut und enthält die Elemente Wahrnehmung\, Lockerung\, 
 Dehnung\, Körperhaltungen und Schlussentspannung. Im Vordergrund steht ni
 cht der Leistungsaspekt\, sondern ein mehr an Beweglichkeit und innerer Ge
 lassenheit.\nYoga kann von Menschen aller Altersstufen praktiziert werden 
 und die Übungen sind so aufgebaut\, dass auch weniger Bewegliche nicht ü
 berfordert werden.\nBitte mitbringen: eine rutschfeste Matte\, bequeme Kle
 idung\, warme Socken\, ein kleines Kissen und eine Wolldecke.\nLeitung: Ja
 na Renger\n8 x Mo.\, 27.01. – 17.03.2025\n16.15 – 17.45 Uhr\n251-05-10
 3
CATEGORIES:Gesundheit &amp; Selbsterfahrung,Januar,Sport &amp; Bewegung
LOCATION:Frauenbildungszentrum\, Schöne Aussicht 24 \, Bad Homburg\, Hesse
 n\, 61348  \, Deutschland
X-APPLE-STRUCTURED-LOCATION;VALUE=URI;X-ADDRESS=Schöne Aussicht 24 \, Bad 
 Homburg\, Hessen\, 61348  \, Deutschland;X-APPLE-RADIUS=100;X-TITLE=Frauen
 bildungszentrum:geo:0,0
END:VEVENT
BEGIN:VTIMEZONE
TZID:Europe/Berlin
X-LIC-LOCATION:Europe/Berlin
BEGIN:STANDARD
DTSTART:20241027T020000
TZOFFSETFROM:+0200
TZOFFSETTO:+0100
TZNAME:CET
END:STANDARD
END:VTIMEZONE
END:VCALENDAR