BEGIN:VCALENDAR
VERSION:2.0
PRODID:-//wp-events-plugin.com//7.2.3.1//EN
BEGIN:VEVENT
UID:804@frauenbildungszentrum.de
DTSTART;TZID=Europe/Berlin:20250630T161500
DTEND;TZID=Europe/Berlin:20250825T174500
DTSTAMP:20250626T105738Z
URL:https://www.frauenbildungszentrum.de/events/golden-yoga-montags-2
SUMMARY:Sommerkurs Golden Yoga (Montags)
DESCRIPTION:Eine sanfte Variation des Hatha-Yoga\nYoga ist ein aus Indien s
 tammendes ca. 3.000 Jahre altes Übungssystem zur Gesunderhaltung von Kör
 per\, Geist und Seele.\nYoga-Haltungen verbessern den Gleichgewichtssinn\,
  verkürzte Sehnen werden sanft gedehnt\, die Rückenmuskulatur wird gest
 ärkt\, Herz und Kreislauf angeregt und der Stress gemildert.\nLangsamkeit
 \, Ruhe und Gleichmäßigkeit liegen im Wesen des Yoga\, jede Kursstunde i
 st ähnlich aufgebaut und enthält die Elemente Wahrnehmung\, Lockerung\, 
 Dehnung\, Körperhaltungen und Schlussentspannung. Im Vordergrund steht ni
 cht der Leistungsaspekt\, sondern ein mehr an Beweglichkeit und innerer Ge
 lassenheit.\nYoga kann von Menschen aller Altersstufen praktiziert werden 
 und die Übungen sind so aufgebaut\, dass auch weniger Bewegliche nicht ü
 berfordert werden.\nBitte mitbringen: eine rutschfeste Matte\, bequeme Kle
 idung\, warme Socken\, ein kleines Kissen und eine Wolldecke.\nLeitung: Ja
 na Renger\n&nbsp\;\n\n8x Mo.\, 30.06. – 25.08.2025\nnicht am 14.07. und 
 04.08.\n\n16.15 – 17.45 Uhr\n\n&nbsp\;\n\n251-05-105\n\n&nbsp\;
CATEGORIES:Gesundheit &amp; Selbsterfahrung,Juli,Juni,Sport &amp; Bewegung
LOCATION:Frauenbildungszentrum\, Schöne Aussicht 24 \, Bad Homburg\, Hesse
 n\, 61348  \, Deutschland
X-APPLE-STRUCTURED-LOCATION;VALUE=URI;X-ADDRESS=Schöne Aussicht 24 \, Bad 
 Homburg\, Hessen\, 61348  \, Deutschland;X-APPLE-RADIUS=100;X-TITLE=Frauen
 bildungszentrum:geo:0,0
END:VEVENT
BEGIN:VTIMEZONE
TZID:Europe/Berlin
X-LIC-LOCATION:Europe/Berlin
BEGIN:DAYLIGHT
DTSTART:20250330T030000
TZOFFSETFROM:+0100
TZOFFSETTO:+0200
TZNAME:CEST
END:DAYLIGHT
END:VTIMEZONE
END:VCALENDAR