BEGIN:VCALENDAR
VERSION:2.0
PRODID:-//wp-events-plugin.com//7.2.3.1//EN
BEGIN:VEVENT
UID:545@frauenbildungszentrum.de
DTSTART;TZID=Europe/Berlin:20260114T163000
DTEND;TZID=Europe/Berlin:20260325T180000
DTSTAMP:20251216T190323Z
URL:https://www.frauenbildungszentrum.de/events/golden-yoga-mittwochs
SUMMARY:Golden Yoga (Mittwochs) 1
DESCRIPTION:Eine sanfte Variation des Hatha-Yoga\nYoga ist ein aus Indien s
 tammendes ca. 3.000 Jahre altes Übungssystem zur Gesunderhaltung von Kör
 per\, Geist und Seele.\nYoga-Haltungen verbessern den Gleichgewichtssinn\,
  verkürzte Sehnen werden sanft gedehnt\, die Rückenmuskulatur wird gest
 ärkt\, Herz und Kreislauf angeregt und der Stress gemildert.\nLangsamkeit
 \, Ruhe und Gleichmäßigkeit liegen im Wesen des Yoga\, jede Kursstunde i
 st ähnlich aufgebaut und enthält die Elemente Wahrnehmung\, Lockerung\, 
 Dehnung\, Körperhaltungen und Schlussentspannung. Im Vordergrund steht ni
 cht der Leistungsaspekt\, sondern ein mehr an Beweglichkeit und innerer Ge
 lassenheit.\nYoga kann von Menschen aller Altersstufen praktiziert werden 
 und die Übungen sind so aufgebaut\, dass auch weniger Bewegliche nicht ü
 berfordert werden.\nBitte mitbringen: eine rutschfeste Matte\, bequeme Kle
 idung\, warme Socken\, ein kleines Kissen und eine Wolldecke.\nLeitung: Mo
 nica Hansen\n&nbsp\;\n\n11 x Mi.\, 14.01. – 25.03.2026\n16.30 – 18.00 
 Uhr\n\nAm 18.03.2026 findet der Kurs im Frauenbildungszentrum statt\n\n261
 -05-101\n\n&nbsp\;
CATEGORIES:Gesundheit &amp; Selbsterfahrung,Januar,Sport &amp; Bewegung
LOCATION:Vereinshaus Dornholzhausen\, Saalburgstr. 158\, Bad Homburg\, Deut
 schland
X-APPLE-STRUCTURED-LOCATION;VALUE=URI;X-ADDRESS=Saalburgstr. 158\, Bad Homb
 urg\, Deutschland;X-APPLE-RADIUS=100;X-TITLE=Vereinshaus Dornholzhausen:ge
 o:0,0
END:VEVENT
BEGIN:VTIMEZONE
TZID:Europe/Berlin
X-LIC-LOCATION:Europe/Berlin
BEGIN:STANDARD
DTSTART:20251026T020000
TZOFFSETFROM:+0200
TZOFFSETTO:+0100
TZNAME:CET
END:STANDARD
END:VTIMEZONE
END:VCALENDAR