BEGIN:VCALENDAR
VERSION:2.0
PRODID:-//wp-events-plugin.com//7.2.3.1//EN
BEGIN:VEVENT
UID:429@frauenbildungszentrum.de
DTSTART;TZID=Europe/Berlin:20240605T160000
DTEND;TZID=Europe/Berlin:20240710T173000
DTSTAMP:20240220T091622Z
URL:https://www.frauenbildungszentrum.de/events/golden-yoga-4-2
SUMMARY:Golden Yoga 5
DESCRIPTION:Eine sanfte Variation des Hatha-Yoga\nYoga ist ein aus Indien s
 tammendes ca. 3.000 Jahre altes Übungssystem zur Gesunderhaltung von Kör
 per\, Geist und Seele.\nYoga-Haltungen verbessern den Gleichgewichtssinn\,
  verkürzte Sehnen werden sanft gedehnt\, die Rückenmuskulatur wird gest
 ärkt\, Herz und Kreislauf angeregt und der Stress gemildert.\nLangsamkeit
 \, Ruhe und Gleichmäßigkeit liegen im Wesen des Yoga\, jede Kursstunde i
 st ähnlich aufgebaut und enthält die Elemente Wahrnehmung\, Lockerung\, 
 Dehnung\, Körperhaltungen und Schlussentspannung. Im Vordergrund steht ni
 cht der Leistungsaspekt\, sondern ein mehr an Beweglichkeit und innerer Ge
 lassenheit.\nYoga kann von Menschen aller Altersstufen praktiziert werden 
 und die Übungen sind so aufgebaut\, dass auch weniger Bewegliche nicht ü
 berfordert werden.\nBitte mitbringen: eine rutschfeste Matte\, bequeme Kle
 idung\, warme Socken\, ein kleines Kissen und eine Wolldecke.\nLeitung: An
 gelika Sasse\n&nbsp\;\n\n6 x Mi.\, 05.06. – 10.07.2024\n16.00 – 17.30 
 Uhr\n\n&nbsp\;\n\n241-05-103\n\n&nbsp\;
CATEGORIES:Gesundheit &amp; Selbsterfahrung,Juni,Sport &amp; Bewegung
LOCATION:Vereinshaus Dornholzhausen\, Saalburgstr. 158\, Bad Homburg\, Deut
 schland
X-APPLE-STRUCTURED-LOCATION;VALUE=URI;X-ADDRESS=Saalburgstr. 158\, Bad Homb
 urg\, Deutschland;X-APPLE-RADIUS=100;X-TITLE=Vereinshaus Dornholzhausen:ge
 o:0,0
END:VEVENT
BEGIN:VTIMEZONE
TZID:Europe/Berlin
X-LIC-LOCATION:Europe/Berlin
BEGIN:DAYLIGHT
DTSTART:20240331T030000
TZOFFSETFROM:+0100
TZOFFSETTO:+0200
TZNAME:CEST
END:DAYLIGHT
END:VTIMEZONE
END:VCALENDAR