BEGIN:VCALENDAR
VERSION:2.0
PRODID:-//wp-events-plugin.com//7.2.3.1//EN
BEGIN:VEVENT
UID:133@frauenbildungszentrum.de
DTSTART;TZID=Europe/Berlin:20250129T160000
DTEND;TZID=Europe/Berlin:20250326T173000
DTSTAMP:20241211T184232Z
URL:https://www.frauenbildungszentrum.de/events/golden-yoga-2
SUMMARY:Golden Yoga 3
DESCRIPTION:Eine sanfte Variation des Hatha-Yoga\nYoga ist ein aus Indien s
 tammendes ca. 3000 Jahre altes Übungssystem zur Gesunderhaltung von Körp
 er\, Geist und Seele.\nYoga-Haltungen verbessern den Gleichgewichtssinn\, 
 verkürzte Sehnen werden sanft gedehnt\, die Rückenmuskulatur wird gestä
 rkt\, Herz und Kreislauf angeregt und der Stress gemildert.\nLangsamkeit\,
  Ruhe und Gleichmäßigkeit liegen im Wesen des Yoga\, jede Kursstunde ist
  ähnlich aufgebaut und enthält die Elemente Wahrnehmung\, Lockerung\, De
 hnung\, Körperhaltungen und Schlussentspannung. Im Vordergrund steht nich
 t der Leistungsaspekt\, sondern ein mehr an Beweglichkeit und innerer Gela
 ssenheit.\nYoga kann von Menschen aller Altersstufen praktiziert werden un
 d die Übungen sind so aufgebaut\, dass auch weniger Bewegliche nicht übe
 rfordert werden.\nBitte mitbringen: eine rutschfeste Matte\, bequeme Kleid
 ung\, warme Socken\, ein kleines Kissen und eine Wolldecke.\nLeitung: Ange
 lika Sasse\n9 x Mi.\, 29.01. – 26.03.2025\n16.00 – 17.30 Uhr\n\n&nbsp\
 ;\n251-05-101
CATEGORIES:Gesundheit &amp; Selbsterfahrung,Januar,Sport &amp; Bewegung
LOCATION:Vereinshaus Dornholzhausen\, Saalburgstr. 158\, Bad Homburg\, Deut
 schland
X-APPLE-STRUCTURED-LOCATION;VALUE=URI;X-ADDRESS=Saalburgstr. 158\, Bad Homb
 urg\, Deutschland;X-APPLE-RADIUS=100;X-TITLE=Vereinshaus Dornholzhausen:ge
 o:0,0
END:VEVENT
BEGIN:VTIMEZONE
TZID:Europe/Berlin
X-LIC-LOCATION:Europe/Berlin
BEGIN:STANDARD
DTSTART:20241027T020000
TZOFFSETFROM:+0200
TZOFFSETTO:+0100
TZNAME:CET
END:STANDARD
END:VTIMEZONE
END:VCALENDAR