BEGIN:VCALENDAR
VERSION:2.0
PRODID:-//wp-events-plugin.com//7.2.3.1//EN
BEGIN:VEVENT
UID:394@frauenbildungszentrum.de
DTSTART;TZID=Europe/Berlin:20260330T161500
DTEND;TZID=Europe/Berlin:20260518T174500
DTSTAMP:20251212T102623Z
URL:https://www.frauenbildungszentrum.de/events/golden-yoga-2-2
SUMMARY:Golden Yoga 2
DESCRIPTION:Eine sanfte Variation des Hatha-Yoga\nYoga ist ein aus Indien s
 tammendes ca. 3000 Jahre altes Übungssystem zur Gesunderhaltung von Körp
 er\, Geist und Seele.\nYoga-Haltungen verbessern den Gleichgewichtssinn\, 
 verkürzte Sehnen werden sanft gedehnt\, die Rückenmuskulatur wird gestä
 rkt\, Herz und Kreislauf angeregt und der Stress gemildert.\nLangsamkeit\,
  Ruhe und Gleichmäßigkeit liegen im Wesen des Yoga\, jede Kursstunde ist
  ähnlich aufgebaut und enthält die Elemente Wahrnehmung\, Lockerung\, De
 hnung\, Körperhaltungen und Schlussentspannung. Im Vordergrund steht nich
 t der Leistungsaspekt\, sondern ein mehr an Beweglichkeit und innerer Gela
 ssenheit.\nYoga kann von Menschen aller Altersstufen praktiziert werden un
 d die Übungen sind so aufgebaut\, dass auch weniger Bewegliche nicht übe
 rfordert werden.\nBitte mitbringen: eine rutschfeste Matte\, bequeme Kleid
 ung\, warme Socken\, ein kleines Kissen und eine Wolldecke.\nLeitung: Jana
  Renger\n 5 x Mo.\, 30.03. – 18.5.2026\nnicht am 04.05.2026\n\n&nbsp\;\
 n261-05-104
CATEGORIES:Gesundheit &amp; Selbsterfahrung,März,Sport &amp; Bewegung
LOCATION:Frauenbildungszentrum\, Schöne Aussicht 24 \, Bad Homburg\, Hesse
 n\, 61348  \, Deutschland
X-APPLE-STRUCTURED-LOCATION;VALUE=URI;X-ADDRESS=Schöne Aussicht 24 \, Bad 
 Homburg\, Hessen\, 61348  \, Deutschland;X-APPLE-RADIUS=100;X-TITLE=Frauen
 bildungszentrum:geo:0,0
END:VEVENT
BEGIN:VTIMEZONE
TZID:Europe/Berlin
X-LIC-LOCATION:Europe/Berlin
BEGIN:DAYLIGHT
DTSTART:20260329T030000
TZOFFSETFROM:+0100
TZOFFSETTO:+0200
TZNAME:CEST
END:DAYLIGHT
END:VTIMEZONE
END:VCALENDAR