BEGIN:VCALENDAR
VERSION:2.0
PRODID:-//wp-events-plugin.com//7.2.3.1//EN
BEGIN:VEVENT
UID:128@frauenbildungszentrum.de
DTSTART;TZID=Europe/Berlin:20230311T100000
DTEND;TZID=Europe/Berlin:20230311T140000
DTSTAMP:20230110T193151Z
URL:https://www.frauenbildungszentrum.de/events/gesunder-ruecken-starke-mi
 tte
SUMMARY:Gesunder Rücken – starke Mitte
DESCRIPTION:In diesem Workshop geht es ausschließlich um das Thema „Rüc
 ken“. Der Kurs beinhaltet Theorie und Praxis\, Ursachen und Entstehung v
 on Rückenbeschwerden sowie richtiges Gehen\, Sitzen und die richtige Kör
 perhaltung.\nWir besprechen\, was es für Behandlungsmöglichkeiten gibt\,
  machen Übungen für verschiedenste Beschwerden\, und lassen genügend Ra
 um für Ihre Fragen.\nBitte bequeme Kleidung anziehen und eine Gymnastikma
 tte und ein Handtuch mitbringen.\nLeitung: Freia Meike Steinhäuser\nSamst
 ag\, 11. März 2023\n\n10.00 – 14.00 Uhr\n231-05-908
CATEGORIES:Gesundheit &amp; Selbsterfahrung,März,Sport &amp; Bewegung
LOCATION:Frauenbildungszentrum\, Schöne Aussicht 24 \, Bad Homburg\, Hesse
 n\, 61348  \, Deutschland
X-APPLE-STRUCTURED-LOCATION;VALUE=URI;X-ADDRESS=Schöne Aussicht 24 \, Bad 
 Homburg\, Hessen\, 61348  \, Deutschland;X-APPLE-RADIUS=100;X-TITLE=Frauen
 bildungszentrum:geo:0,0
END:VEVENT
BEGIN:VTIMEZONE
TZID:Europe/Berlin
X-LIC-LOCATION:Europe/Berlin
BEGIN:STANDARD
DTSTART:20221030T020000
TZOFFSETFROM:+0200
TZOFFSETTO:+0100
TZNAME:CET
END:STANDARD
END:VTIMEZONE
END:VCALENDAR