BEGIN:VCALENDAR
VERSION:2.0
PRODID:-//wp-events-plugin.com//7.2.3.1//EN
BEGIN:VEVENT
UID:978@frauenbildungszentrum.de
DTSTART;TZID=Europe/Berlin:20260304T193000
DTEND;TZID=Europe/Berlin:20260304T210000
DTSTAMP:20260226T094256Z
URL:https://www.frauenbildungszentrum.de/events/gesund-beginnt-im-mund
SUMMARY:Gesund beginnt im Mund
DESCRIPTION:ganzheitliche Zahnheilkunde denkt weiter\n\nVortrag der Zahnär
 ztin und Heilpraktikerin Christine Albinger-Voigt\n\nLeitung: Christine Al
 binger-Voigt\n\nMittwoch\, 04. März 2026\n19.30 – 21.00 Uhr\n\n&nbsp\;\
 n\n261-07-006\n 
CATEGORIES:Gesundheit &amp; Selbsterfahrung,März
LOCATION:Frauenbildungszentrum\, Schöne Aussicht 24 \, Bad Homburg\, Hesse
 n\, 61348  \, Deutschland
X-APPLE-STRUCTURED-LOCATION;VALUE=URI;X-ADDRESS=Schöne Aussicht 24 \, Bad 
 Homburg\, Hessen\, 61348  \, Deutschland;X-APPLE-RADIUS=100;X-TITLE=Frauen
 bildungszentrum:geo:0,0
END:VEVENT
BEGIN:VTIMEZONE
TZID:Europe/Berlin
X-LIC-LOCATION:Europe/Berlin
BEGIN:STANDARD
DTSTART:20251026T020000
TZOFFSETFROM:+0200
TZOFFSETTO:+0100
TZNAME:CET
END:STANDARD
END:VTIMEZONE
END:VCALENDAR