BEGIN:VCALENDAR
VERSION:2.0
PRODID:-//wp-events-plugin.com//7.2.3.1//EN
BEGIN:VEVENT
UID:834@frauenbildungszentrum.de
DTSTART;TZID=Europe/Berlin:20251009T163000
DTEND;TZID=Europe/Berlin:20251120T173000
DTSTAMP:20250704T112209Z
URL:https://www.frauenbildungszentrum.de/events/gesichtsyoga-fuer-frauen-m
 it-erfahrung
SUMMARY:Gesichtsyoga für Frauen mit Erfahrung
DESCRIPTION:Frisches Aussehen auf natürliche Weise\nGesichtsyoga kann die 
 Konturen und das Hautbild verbessern\, Nacken\, Schultern und Kiefermuskul
 atur lockern. Es hilft\, Stress und die dadurch verursachten Spannungen ab
 zubauen.\n\nGleichzeitig wird die Durchblutung gefördert und Lymphgefäß
 e werden für Detox stimuliert. Das Gewebe wird besser mit Nährstoffen un
 d Sauerstoff versorgt. Dies lässt das Gesicht glänzend und gesünder ers
 cheinen. Die Haut fühlt sich frisch und entspannt an – auf ganz natürl
 iche Weise.\n\nDieser Kurs ist für Frauen geeignet\, die bereits Gesichts
 yoga gemacht haben. Wir werden uns mit dem gesamten Gesicht beschäftigen 
 und nach Möglichkeit auf die Wünsche der Teilnehmerinnen eingehen.\n\n&n
 bsp\;\n\n&nbsp\;\nLeitung: Inés Basombrío\n \nFür Frauen mit Erfahrung
 \n7 x Do.\, 09.10. – 20.11.2025\n16.30 – 17.30 Uhr\nDer Kurs findet au
 ch in den Herbstferien statt\n\n252-07-028\n\n \n 
CATEGORIES:Gesundheit &amp; Selbsterfahrung,Oktober
LOCATION:Frauenbildungszentrum\, Schöne Aussicht 24 \, Bad Homburg\, Hesse
 n\, 61348  \, Deutschland
X-APPLE-STRUCTURED-LOCATION;VALUE=URI;X-ADDRESS=Schöne Aussicht 24 \, Bad 
 Homburg\, Hessen\, 61348  \, Deutschland;X-APPLE-RADIUS=100;X-TITLE=Frauen
 bildungszentrum:geo:0,0
END:VEVENT
BEGIN:VTIMEZONE
TZID:Europe/Berlin
X-LIC-LOCATION:Europe/Berlin
BEGIN:DAYLIGHT
DTSTART:20250330T030000
TZOFFSETFROM:+0100
TZOFFSETTO:+0200
TZNAME:CEST
END:DAYLIGHT
BEGIN:STANDARD
DTSTART:20251026T020000
TZOFFSETFROM:+0200
TZOFFSETTO:+0100
TZNAME:CET
END:STANDARD
END:VTIMEZONE
END:VCALENDAR