BEGIN:VCALENDAR
VERSION:2.0
PRODID:-//wp-events-plugin.com//7.2.3.1//EN
BEGIN:VEVENT
UID:769@frauenbildungszentrum.de
DTSTART;TZID=Europe/Berlin:20260310T190000
DTEND;TZID=Europe/Berlin:20260310T210000
DTSTAMP:20251210T105229Z
URL:https://www.frauenbildungszentrum.de/events/fruehlingsspaziergang-im-b
 ad-homburger-schlosspark
SUMMARY:Märchen mit Humor
DESCRIPTION:In Kooperation mit der bekannten Märchenerzählerin Michaele S
 cherenberg\nHeute geht es beim gemeinsamen Märchenabend um das Lachen\, d
 as Lächeln und den Humor. Märchen und Geschichten können uns dabei helf
 en\, auf der leichten Seite des Lebens zu bleiben und auch bei Wolken den 
 Himmel zu sehen.\nMichaele Scherenberg erzählt ihre Märchen völlig frei
  und auf ganz besondere Weise. Dabei wirken auch ihre kostbaren Kristallkl
 anginstrumente auf inspirierende Weise mit. Und natürlich gibt es wieder 
 die weltbeste Tomatenbutter\, gutes Brot und leckere Getränke.\nMichaele 
 Scherenberg - bekannt durch ihre Auftritte und Filme im Hessischen Rundfun
 k - ist seit langem Märchenerzählerin. Sie erzählt völlig frei auf fas
 zinierende Weise.\nDienstag\, 10. März 2026\n19.00 – 21.00 Uhr\n&nbsp\;
 \n261-12-102
CATEGORIES:März,Veranstaltungen
LOCATION:Wohlfühlhaus\, Rathausstr. 8\, Bad Homburg-Altstadt\, 61348\, Deu
 tschland
X-APPLE-STRUCTURED-LOCATION;VALUE=URI;X-ADDRESS=Rathausstr. 8\, Bad Homburg
 -Altstadt\, 61348\, Deutschland;X-APPLE-RADIUS=100;X-TITLE=Wohlfühlhaus:g
 eo:0,0
END:VEVENT
BEGIN:VTIMEZONE
TZID:Europe/Berlin
X-LIC-LOCATION:Europe/Berlin
BEGIN:STANDARD
DTSTART:20251026T020000
TZOFFSETFROM:+0200
TZOFFSETTO:+0100
TZNAME:CET
END:STANDARD
END:VTIMEZONE
END:VCALENDAR