BEGIN:VCALENDAR
VERSION:2.0
PRODID:-//wp-events-plugin.com//7.2.3.1//EN
BEGIN:VEVENT
UID:753@frauenbildungszentrum.de
DTSTART;TZID=Europe/Berlin:20250517T110000
DTEND;TZID=Europe/Berlin:20250517T140000
DTSTAMP:20250108T114835Z
URL:https://www.frauenbildungszentrum.de/events/fruehlingskraft-und-lebens
 freude-2
SUMMARY:FRÜHLINGSKRAFT UND LEBENSFREUDE 2
DESCRIPTION:Tanzworkshop\nIn diesen beiden Workshops spüren wir den Qualit
 äten der Jahreszeit Frühling nach. Noch ruhen und schlummern die Samenk
 örner in der Erde. Doch schon bald brechen sie auf\, angelockt von der w
 ärmenden Sonne\, kommen sie ans Licht wachsen und entfalten sich. Diesem 
 natürlichen Lebensfluss wollen wir tänzerisch folgen.\n\nDie Kräfte\, d
 ie in der äußeren Natur aktiv sind\, wirken ebenso in uns. Durch authent
 isches\, freies Bewegen können wir diese Kräfte erfahren. Das schafft Re
 sonanz und Verbundenheit\, die uns stärkt\, nährt und erfüllt.\n\nIn de
 n 3 Stunden gibt es Impulse aus dem Emotional Dance Process ® nach Tiamat
  S. Ohm\, die helfen in die eigene\, authentische Bewegung zu finden\, es 
 gibt Zeit zum Austausch und Nachspüren und Zeit das Bewegte in einem Bild
  auszudrücken. Es sind keine tänzerischen Vorerfahrungen nötig.\n\nBitt
 e mitbringen: Bequeme Kleidung\, Tanzschläppchen\, Malpapier und Stifte.\
 n\n&nbsp\;\nLeitung: Mona Wosnik und Andrea Waldvogel\nSamstag\, 17. Mai 2
 025\n11 – 14.00 Uhr\nMindestteilnehmerinnenzahl: 7\n\n&nbsp\;\nIn den Ku
 rsgebühren ist jeweils GEMA enthalten.\n251-04-103\n&nbsp\;
CATEGORIES:Mai,Musik &amp; Tanz
LOCATION:Erlenbachhalle\, Josef-Baumann Str. 15\,\, Bad Homburg\,\, 61352\,
  Deutschland
X-APPLE-STRUCTURED-LOCATION;VALUE=URI;X-ADDRESS=Josef-Baumann Str. 15\,\, B
 ad Homburg\,\, 61352\, Deutschland;X-APPLE-RADIUS=100;X-TITLE=Erlenbachhal
 le:geo:0,0
END:VEVENT
BEGIN:VTIMEZONE
TZID:Europe/Berlin
X-LIC-LOCATION:Europe/Berlin
BEGIN:DAYLIGHT
DTSTART:20250330T030000
TZOFFSETFROM:+0100
TZOFFSETTO:+0200
TZNAME:CEST
END:DAYLIGHT
END:VTIMEZONE
END:VCALENDAR