BEGIN:VCALENDAR
VERSION:2.0
PRODID:-//wp-events-plugin.com//7.2.3.1//EN
BEGIN:VEVENT
UID:167@frauenbildungszentrum.de
DTSTART;TZID=Europe/Berlin:20230506T100000
DTEND;TZID=Europe/Berlin:20230506T150000
DTSTAMP:20230110T200102Z
URL:https://www.frauenbildungszentrum.de/events/fruehlingskraeuter
SUMMARY:Frühlingskräuter
DESCRIPTION:Wild- und Heilkräuter kennenlernen und anwenden\nIn diesem Kr
 äuterseminar lernen Sie typische Wildkräuter der Jahreszeit kennen: z.B.
  Knoblauchsrauke\, Gundelrebe\, Spitzwegerich\, Gänseblümchen und Löwen
 zahn. Wir werden verschiedene pflanzliche Rezepturen für die Hausapotheke
  und den Gaumen ausprobieren\, z.B. ein Hustenmittel\, einen leckeren Brot
 aufstrich und ein Hautpflegeprodukt.\nGestärkt mit Selbstgemachtem\, neue
 n Erfahrungen und vielen informativen und praktischen Tipps gehen Sie nach
  Hause.\nLeitung: Juliane Bergmann\nSamstag\, 6. Mai 2023\n10.00 – 15.00
  Uhr\n( Es entstehen noch Materialkosten in Höhe von € 10\,--\, die dir
 ekt an die Referentin zu zahlen sind. )\n231-07-013
CATEGORIES:Gesundheit &amp; Selbsterfahrung,Mai
LOCATION:Frauenbildungszentrum\, Schöne Aussicht 24 \, Bad Homburg\, Hesse
 n\, 61348  \, Deutschland
X-APPLE-STRUCTURED-LOCATION;VALUE=URI;X-ADDRESS=Schöne Aussicht 24 \, Bad 
 Homburg\, Hessen\, 61348  \, Deutschland;X-APPLE-RADIUS=100;X-TITLE=Frauen
 bildungszentrum:geo:0,0
END:VEVENT
BEGIN:VTIMEZONE
TZID:Europe/Berlin
X-LIC-LOCATION:Europe/Berlin
BEGIN:DAYLIGHT
DTSTART:20230326T030000
TZOFFSETFROM:+0100
TZOFFSETTO:+0200
TZNAME:CEST
END:DAYLIGHT
END:VTIMEZONE
END:VCALENDAR