BEGIN:VCALENDAR
VERSION:2.0
PRODID:-//wp-events-plugin.com//7.2.3.1//EN
BEGIN:VEVENT
UID:631@frauenbildungszentrum.de
DTSTART;TZID=Europe/Berlin:20260311T190000
DTEND;TZID=Europe/Berlin:20260311T210000
DTSTAMP:20251212T114001Z
URL:https://www.frauenbildungszentrum.de/events/froehlicher-denken-leichte
 r-leben
SUMMARY:FRÖHLICH DENKEN\, GLÜCKLICH LEBEN
DESCRIPTION:Wie Gedanken und Sprache uns beeinflussen\nFreude und Wohlbefin
 den nur durch Gedanken und eine bewusste Wortwahl? Erfahren Sie an diesem 
 Abend\, wie wir und unser Leben durch Vorstellungen\, welche sich täglich
  in unserem Kopf abspielen\, beeinflusst werden.\nWerfen Sie einen Blick a
 uf Ihre eigenen Gedanken und Ihre Sprache. Durch kleine Änderungen und ei
 nfach umzusetzende Ideen wird das Leben leichter. Sprache und Gedanken hab
 en eine enorme Auswirkung.\nErkennen Sie\, wie Sie mit konstruktiven Gedan
 ken und positiven Formulierungen in allen Bereichen einen großen Nutzen f
 ür sich\, ihre Familie und andere erzielen können.\nLeitung: Saskia Bais
 ch-Zimmer\nMittwoch\, 11. März 2026\n19.00 – 21.00 Uhr\n\n&nbsp\;\n\n26
 1-07-024\n\n 
CATEGORIES:Gesundheit &amp; Selbsterfahrung,März
LOCATION:Frauenbildungszentrum\, Schöne Aussicht 24 \, Bad Homburg\, Hesse
 n\, 61348  \, Deutschland
X-APPLE-STRUCTURED-LOCATION;VALUE=URI;X-ADDRESS=Schöne Aussicht 24 \, Bad 
 Homburg\, Hessen\, 61348  \, Deutschland;X-APPLE-RADIUS=100;X-TITLE=Frauen
 bildungszentrum:geo:0,0
END:VEVENT
BEGIN:VTIMEZONE
TZID:Europe/Berlin
X-LIC-LOCATION:Europe/Berlin
BEGIN:STANDARD
DTSTART:20251026T020000
TZOFFSETFROM:+0200
TZOFFSETTO:+0100
TZNAME:CET
END:STANDARD
END:VTIMEZONE
END:VCALENDAR