BEGIN:VCALENDAR
VERSION:2.0
PRODID:-//wp-events-plugin.com//7.2.3.1//EN
BEGIN:VEVENT
UID:797@frauenbildungszentrum.de
DTSTART;TZID=Europe/Berlin:20250512T193000
DTEND;TZID=Europe/Berlin:20250512T210000
DTSTAMP:20250327T112040Z
URL:https://www.frauenbildungszentrum.de/events/froehlicher-denken-leichte
 r-leben-2
SUMMARY:FRÖHLICHER DENKEN\, LEICHTER LEBEN 2 (Anmeldung nur noch auf Warte
 liste möglich)
DESCRIPTION:Wie Gedanken und Sprache uns beeinflussen\nFreude und Wohlbefin
 den nur durch Gedanken und eine bewusste Wortwahl? Erfahren Sie an diesem 
 Abend\, wie wir und unser Leben durch Vorstellungen\, welche sich täglich
  in unserem Kopf abspielen\, beeinflusst werden.\nWerfen Sie einen Blick a
 uf Ihre eigenen Gedanken und Ihre Sprache. Durch kleine Änderungen und ei
 nfach umzusetzende Ideen wird das Leben leichter. Sprache und Gedanken hab
 en eine enorme Auswirkung.\nErkennen Sie\, wie Sie mit konstruktiven Gedan
 ken und positiven Formulierungen in allen Bereichen einen großen Nutzen f
 ür sich\, ihre Familie und andere erzielen können.\nLeitung: Saskia Bais
 ch-Zimmer\nMontag\, 12. Mai 2025\n19.30 – 21.00 Uhr\n\nDieser Kurs wird 
 für Frauen und Männer angeboten.\n\n251-07-031\n\n 
CATEGORIES:Gesundheit &amp; Selbsterfahrung,Mai
LOCATION:Frauenbildungszentrum\, Schöne Aussicht 24 \, Bad Homburg\, Hesse
 n\, 61348  \, Deutschland
X-APPLE-STRUCTURED-LOCATION;VALUE=URI;X-ADDRESS=Schöne Aussicht 24 \, Bad 
 Homburg\, Hessen\, 61348  \, Deutschland;X-APPLE-RADIUS=100;X-TITLE=Frauen
 bildungszentrum:geo:0,0
END:VEVENT
BEGIN:VTIMEZONE
TZID:Europe/Berlin
X-LIC-LOCATION:Europe/Berlin
BEGIN:DAYLIGHT
DTSTART:20250330T030000
TZOFFSETFROM:+0100
TZOFFSETTO:+0200
TZNAME:CEST
END:DAYLIGHT
END:VTIMEZONE
END:VCALENDAR