BEGIN:VCALENDAR
VERSION:2.0
PRODID:-//wp-events-plugin.com//7.2.3.1//EN
BEGIN:VEVENT
UID:141@frauenbildungszentrum.de
DTSTART;TZID=Europe/Berlin:20230709T100000
DTEND;TZID=Europe/Berlin:20230709T123000
DTSTAMP:20230704T100044Z
URL:https://www.frauenbildungszentrum.de/events/frauenfruehstueck-2
SUMMARY:Frauenfrühstück 2
DESCRIPTION:In netter Runde beisammensitzen und über interessante Themen d
 iskutieren\, das ist das Motto unserer gemeinsamen Treffen. Wir erleben an
 regende „Frühstücksgespräche“ mit interessanten Frauen und knüpfen
  neue Bekanntschaften.\nIm Juli wird uns Stefanie Fischer\, die lange Zeit
  im Ausland gelebt hat\, einen kleinen Einblick in die interkulturelle Kom
 munikation gewähren und die Besonderheiten der deutschen Kultur und ihre 
 Wirkung auf Menschen aus anderen Kulturkreisen erläutern. Anmeldung bis 0
 4. Juli 2023.\nSonntag\, 9. Juli 2023\n\n10.00 – 12.30 Uhr\n231-12-105
CATEGORIES:Juli,Veranstaltungen
LOCATION:Frauenbildungszentrum\, Schöne Aussicht 24 \, Bad Homburg\, Hesse
 n\, 61348  \, Deutschland
X-APPLE-STRUCTURED-LOCATION;VALUE=URI;X-ADDRESS=Schöne Aussicht 24 \, Bad 
 Homburg\, Hessen\, 61348  \, Deutschland;X-APPLE-RADIUS=100;X-TITLE=Frauen
 bildungszentrum:geo:0,0
END:VEVENT
BEGIN:VTIMEZONE
TZID:Europe/Berlin
X-LIC-LOCATION:Europe/Berlin
BEGIN:DAYLIGHT
DTSTART:20230326T030000
TZOFFSETFROM:+0100
TZOFFSETTO:+0200
TZNAME:CEST
END:DAYLIGHT
END:VTIMEZONE
END:VCALENDAR