BEGIN:VCALENDAR
VERSION:2.0
PRODID:-//wp-events-plugin.com//7.2.3.1//EN
BEGIN:VEVENT
UID:140@frauenbildungszentrum.de
DTSTART;TZID=Europe/Berlin:20230319T100000
DTEND;TZID=Europe/Berlin:20230319T123000
DTSTAMP:20230313T100426Z
URL:https://www.frauenbildungszentrum.de/events/frauenfruehstueck-1
SUMMARY:Frauenfrühstück 1
DESCRIPTION:In netter Runde beisammensitzen und über interessante Themen d
 iskutieren\, das ist das Motto unserer gemeinsamen Treffen. Wir erleben an
 regende „Frühstücksgespräche“ mit interessanten Frauen und knüpfen
  neue Bekanntschaften.\nBeim Frühstück im März besteht die Gelegenheit 
 auf die Entwicklung\, die das Frauenbildungszentrum in den vergangenen 35 
 Jahren genommen hat\, zurückzublicken. Anmeldung bis 14. März 2023.\nSon
 ntag\, 19. März 2023\n\n10.00 – 12.30 Uhr\n231-12-104
CATEGORIES:März,Veranstaltungen
LOCATION:Frauenbildungszentrum\, Schöne Aussicht 24 \, Bad Homburg\, Hesse
 n\, 61348  \, Deutschland
X-APPLE-STRUCTURED-LOCATION;VALUE=URI;X-ADDRESS=Schöne Aussicht 24 \, Bad 
 Homburg\, Hessen\, 61348  \, Deutschland;X-APPLE-RADIUS=100;X-TITLE=Frauen
 bildungszentrum:geo:0,0
END:VEVENT
BEGIN:VTIMEZONE
TZID:Europe/Berlin
X-LIC-LOCATION:Europe/Berlin
BEGIN:STANDARD
DTSTART:20221030T020000
TZOFFSETFROM:+0200
TZOFFSETTO:+0100
TZNAME:CET
END:STANDARD
END:VTIMEZONE
END:VCALENDAR