BEGIN:VCALENDAR
VERSION:2.0
PRODID:-//wp-events-plugin.com//7.2.3.1//EN
BEGIN:VEVENT
UID:640@frauenbildungszentrum.de
DTSTART;TZID=Europe/Berlin:20260506T190000
DTEND;TZID=Europe/Berlin:20260506T210000
DTSTAMP:20251212T120808Z
URL:https://www.frauenbildungszentrum.de/events/frauen-in-balance
SUMMARY:Ätherische Öle für mehr Ruhe und innere Balance
DESCRIPTION:Mit Hilfe ätherischen Öle Stress lindern\, Hormone regulieren
  und besser schlafen – inkl. DIY Roll-on\nFühlen Sie sich oft gestresst
  oder haben mit hormonellen Schwankungen zu kämpfen? Wünschen Sie sich b
 esseren Schlaf und mehr Ausgeglichenheit in Ihrem Alltag? An diesem Abend 
 lernen Sie\, wie ätherische Öle auf natürliche Weise helfen können\, S
 tress zu reduzieren\, den Hormonhaushalt ins Gleichgewicht zu bringen und 
 den Zyklus zu regulieren.\nVon der Förderung eines ruhigen Schlafes bis z
 ur Unterstützung bei hormonellen Veränderungen – wir entdecken gemeins
 am\, welche Öle besonders wohltuend für Frauen sind und Sie erhalten pra
 ktische Tipps und Anwendungsmöglichkeiten\, die Sie leicht in Ihren Allta
 g integrieren können.\nIm Anschluss stellen Sie sich Ihren eigenen 10-ml-
 Roll-On "Superwoman" her – ideal zur Unterstützung von Stimmung\, Energ
 ie und Hormonen.\n\nDieser Kurs ersetzt keinen Arzt- oder Heilpraktikerbes
 uch\, es werden keine Diagnosen gestellt oder Heilversprechen gegeben.\nIn
  der Kursgebühr sind € 10\,-- für den Roll-on enthalten.\n\nLeitung: U
 te Kolbe\n\nMittwoch\, 06. Mai 2026\n19.00 – 21.00 Uhr\n\n261-07-005\n\n
  \n 
CATEGORIES:Gesundheit &amp; Selbsterfahrung,Mai
LOCATION:Frauenbildungszentrum\, Schöne Aussicht 24 \, Bad Homburg\, Hesse
 n\, 61348  \, Deutschland
X-APPLE-STRUCTURED-LOCATION;VALUE=URI;X-ADDRESS=Schöne Aussicht 24 \, Bad 
 Homburg\, Hessen\, 61348  \, Deutschland;X-APPLE-RADIUS=100;X-TITLE=Frauen
 bildungszentrum:geo:0,0
END:VEVENT
BEGIN:VTIMEZONE
TZID:Europe/Berlin
X-LIC-LOCATION:Europe/Berlin
BEGIN:DAYLIGHT
DTSTART:20260329T030000
TZOFFSETFROM:+0100
TZOFFSETTO:+0200
TZNAME:CEST
END:DAYLIGHT
END:VTIMEZONE
END:VCALENDAR