BEGIN:VCALENDAR
VERSION:2.0
PRODID:-//wp-events-plugin.com//7.2.3.1//EN
BEGIN:VEVENT
UID:26@frauenbildungszentrum.de
DTSTART;TZID=Europe/Berlin:20260120T114500
DTEND;TZID=Europe/Berlin:20260324T131500
DTSTAMP:20251210T150808Z
URL:https://www.frauenbildungszentrum.de/events/franzoesisch-salut-ca-va
SUMMARY:Französisch – Salut\, ça va? 1
DESCRIPTION:Für Frauen mit Grundkenntnissen\nFrauen\, die Lust haben\, Fra
 nzösisch zu lernen\, um sich im Urlaub oder auf Reisen besser verständig
 en zu können\, werden an diesem Kurs Spaß haben. Wir arbeiten mit dem B
 uch „Voyages neu A1“.\nLeitung: Jacqueline Erkunt\n 10 x Di.\, 20.01.
  – 24.03.2026\n11.45 – 13.15 Uhr\n\n261-03-421\n
CATEGORIES:Januar,Sprachkurse
LOCATION:Frauenbildungszentrum\, Schöne Aussicht 24 \, Bad Homburg\, Hesse
 n\, 61348  \, Deutschland
X-APPLE-STRUCTURED-LOCATION;VALUE=URI;X-ADDRESS=Schöne Aussicht 24 \, Bad 
 Homburg\, Hessen\, 61348  \, Deutschland;X-APPLE-RADIUS=100;X-TITLE=Frauen
 bildungszentrum:geo:0,0
END:VEVENT
BEGIN:VTIMEZONE
TZID:Europe/Berlin
X-LIC-LOCATION:Europe/Berlin
BEGIN:STANDARD
DTSTART:20251026T020000
TZOFFSETFROM:+0200
TZOFFSETTO:+0100
TZNAME:CET
END:STANDARD
END:VTIMEZONE
END:VCALENDAR