BEGIN:VCALENDAR
VERSION:2.0
PRODID:-//wp-events-plugin.com//7.2.3.1//EN
BEGIN:VEVENT
UID:27@frauenbildungszentrum.de
DTSTART;TZID=Europe/Berlin:20260421T114500
DTEND;TZID=Europe/Berlin:20260623T131500
DTSTAMP:20251210T151010Z
URL:https://www.frauenbildungszentrum.de/events/franzoesisch-salut-ca-va-1
SUMMARY:Französisch – Salut\, ça va? 2
DESCRIPTION:Für Frauen mit Grundkenntnissen\nFrauen\, die Lust haben\, Fra
 nzösisch zu lernen\, um sich im Urlaub oder auf Reisen besser verständig
 en zu können\, werden an diesem Kurs Spaß haben. Wir arbeiten mit dem B
 uch „Voyages neu A1“.\nLeitung: Jacqueline Erkunt\n10 x Di.\, 21.04. 
 – 23.06.2026\n11.45 – 13.15 Uhr\n\n&nbsp\;\n\n261-03-422
CATEGORIES:April,Sprachkurse
LOCATION:Frauenbildungszentrum\, Schöne Aussicht 24 \, Bad Homburg\, Hesse
 n\, 61348  \, Deutschland
X-APPLE-STRUCTURED-LOCATION;VALUE=URI;X-ADDRESS=Schöne Aussicht 24 \, Bad 
 Homburg\, Hessen\, 61348  \, Deutschland;X-APPLE-RADIUS=100;X-TITLE=Frauen
 bildungszentrum:geo:0,0
END:VEVENT
BEGIN:VTIMEZONE
TZID:Europe/Berlin
X-LIC-LOCATION:Europe/Berlin
BEGIN:DAYLIGHT
DTSTART:20260329T030000
TZOFFSETFROM:+0100
TZOFFSETTO:+0200
TZNAME:CEST
END:DAYLIGHT
END:VTIMEZONE
END:VCALENDAR