BEGIN:VCALENDAR
VERSION:2.0
PRODID:-//wp-events-plugin.com//7.2.3.1//EN
BEGIN:VEVENT
UID:25@frauenbildungszentrum.de
DTSTART;TZID=Europe/Berlin:20250422T093000
DTEND;TZID=Europe/Berlin:20250624T110000
DTSTAMP:20241211T193029Z
URL:https://www.frauenbildungszentrum.de/events/franzoesisch-parlez-vous-f
 rancais-3
SUMMARY:Französisch – parlez-vous français? 3
DESCRIPTION:Für Frauen mit guten Grundkenntnissen\nSie haben schon Vorkenn
 tnisse und möchten diese auffrischen? Dann kommen Sie zu uns\, um ihr Fr
 anzösisch in einer lockeren Atmosphäre zu verbessern. Wir arbeiten mit d
 em Buch „Couleurs de France 2“.\nLeitung: Jacqueline Erkunt\n10 x Di.\
 , 22.04. – 24.06.2025\n09.30 – 11.00 Uhr\n\n&nbsp\;\n251-03-413
CATEGORIES:April,Sprachkurse
LOCATION:Frauenbildungszentrum\, Schöne Aussicht 24 \, Bad Homburg\, Hesse
 n\, 61348  \, Deutschland
X-APPLE-STRUCTURED-LOCATION;VALUE=URI;X-ADDRESS=Schöne Aussicht 24 \, Bad 
 Homburg\, Hessen\, 61348  \, Deutschland;X-APPLE-RADIUS=100;X-TITLE=Frauen
 bildungszentrum:geo:0,0
END:VEVENT
BEGIN:VTIMEZONE
TZID:Europe/Berlin
X-LIC-LOCATION:Europe/Berlin
BEGIN:DAYLIGHT
DTSTART:20250330T030000
TZOFFSETFROM:+0100
TZOFFSETTO:+0200
TZNAME:CEST
END:DAYLIGHT
END:VTIMEZONE
END:VCALENDAR