BEGIN:VCALENDAR
VERSION:2.0
PRODID:-//wp-events-plugin.com//7.2.3.1//EN
BEGIN:VEVENT
UID:24@frauenbildungszentrum.de
DTSTART;TZID=Europe/Berlin:20260421T100000
DTEND;TZID=Europe/Berlin:20260421T113000
DTSTAMP:20251216T173241Z
URL:https://www.frauenbildungszentrum.de/events/franzoesisch-parlez-vous-f
 rancais-2
SUMMARY:Französisch – parlez-vous français? 2
DESCRIPTION:Für Frauen mit guten Grundkenntnissen\nSie haben schon Vorkenn
 tnisse und möchten diese auffrischen? Dann kommen Sie zu uns\, um ihr Fr
 anzösisch in einer lockeren Atmosphäre zu verbessern. Wir arbeiten mit d
 em Buch „Couleurs de France 2“.\nLeitung: Jacqueline Erkunt\n 7 x Di.
 \, 21.04. – 23.06.2026\n10.00 - 11.30 Uhr\n\n&nbsp\;\n\n&nbsp\;\n261-03-
 412
CATEGORIES:April,Sprachkurse
LOCATION:Frauenbildungszentrum\, Schöne Aussicht 24 \, Bad Homburg\, Hesse
 n\, 61348  \, Deutschland
X-APPLE-STRUCTURED-LOCATION;VALUE=URI;X-ADDRESS=Schöne Aussicht 24 \, Bad 
 Homburg\, Hessen\, 61348  \, Deutschland;X-APPLE-RADIUS=100;X-TITLE=Frauen
 bildungszentrum:geo:0,0
END:VEVENT
BEGIN:VTIMEZONE
TZID:Europe/Berlin
X-LIC-LOCATION:Europe/Berlin
BEGIN:DAYLIGHT
DTSTART:20260329T030000
TZOFFSETFROM:+0100
TZOFFSETTO:+0200
TZNAME:CEST
END:DAYLIGHT
END:VTIMEZONE
END:VCALENDAR