BEGIN:VCALENDAR
VERSION:2.0
PRODID:-//wp-events-plugin.com//7.2.3.1//EN
BEGIN:VEVENT
UID:23@frauenbildungszentrum.de
DTSTART;TZID=Europe/Berlin:20260120T100000
DTEND;TZID=Europe/Berlin:20260324T113000
DTSTAMP:20251210T150441Z
URL:https://www.frauenbildungszentrum.de/events/franzoesisch-parlez-vous-f
 rancais-1
SUMMARY:Französisch – parlez-vous français? 1
DESCRIPTION:Für Frauen mit guten Grundkenntnissen\nSie haben schon Vorkenn
 tnisse und möchten diese auffrischen? Dann kommen Sie zu uns\, um ihr Fr
 anzösisch in einer lockeren Atmosphäre zu verbessern. Wir arbeiten mit d
 em Buch „Couleurs de France 2“.\nLeitung: Jacqueline Erkunt\n10 x Di.\
 , 20.01. – 24.03.2026\n10.00 – 11.30 Uhr\n\n&nbsp\;\n261-03-411
CATEGORIES:Januar,Sprachkurse
LOCATION:Frauenbildungszentrum\, Schöne Aussicht 24 \, Bad Homburg\, Hesse
 n\, 61348  \, Deutschland
X-APPLE-STRUCTURED-LOCATION;VALUE=URI;X-ADDRESS=Schöne Aussicht 24 \, Bad 
 Homburg\, Hessen\, 61348  \, Deutschland;X-APPLE-RADIUS=100;X-TITLE=Frauen
 bildungszentrum:geo:0,0
END:VEVENT
BEGIN:VTIMEZONE
TZID:Europe/Berlin
X-LIC-LOCATION:Europe/Berlin
BEGIN:STANDARD
DTSTART:20251026T020000
TZOFFSETFROM:+0200
TZOFFSETTO:+0100
TZNAME:CET
END:STANDARD
END:VTIMEZONE
END:VCALENDAR