BEGIN:VCALENDAR
VERSION:2.0
PRODID:-//wp-events-plugin.com//7.2.3.1//EN
BEGIN:VEVENT
UID:123@frauenbildungszentrum.de
DTSTART;TZID=Europe/Berlin:20260228T100000
DTEND;TZID=Europe/Berlin:20260321T130000
DTSTAMP:20251212T093452Z
URL:https://www.frauenbildungszentrum.de/events/feldenkrais
SUMMARY:Feldenkrais
DESCRIPTION:Bewusstheit durch Bewegung – Kleingruppe 4 - 7 TN\nDurch dies
 e Methode des „organischen Lernens“ können körperliche Blockaden und
  eingefahrene Abläufe lokalisiert und aufgelöst werden. Dies geschieht d
 urch sich wiederholende Bewegungen\, die sich zu einem größeren Bewegung
 sablauf zusammenfügen. Diese Bewegungen werden überwiegend im Liegen aus
 geführt.\nSo kann jeder körperlich beweglicher\, entspannter und stabile
 r und ebenso auch psychisch gelöster und geistig fitter werden. Bitte mit
 bringen: warme und bequeme Kleidung und eine Decke.\nLeitung: Martina Deso
 i – Michel\n2 x Sa.\, 28.02. und 21.03.2026\n10.00 – 13.00 Uhr\n\n&nbs
 p\;\n261-05-915
CATEGORIES:Februar,Gesundheit &amp; Selbsterfahrung,Sport &amp; Bewegung
LOCATION:Frauenbildungszentrum\, Schöne Aussicht 24 \, Bad Homburg\, Hesse
 n\, 61348  \, Deutschland
X-APPLE-STRUCTURED-LOCATION;VALUE=URI;X-ADDRESS=Schöne Aussicht 24 \, Bad 
 Homburg\, Hessen\, 61348  \, Deutschland;X-APPLE-RADIUS=100;X-TITLE=Frauen
 bildungszentrum:geo:0,0
END:VEVENT
BEGIN:VTIMEZONE
TZID:Europe/Berlin
X-LIC-LOCATION:Europe/Berlin
BEGIN:STANDARD
DTSTART:20251026T020000
TZOFFSETFROM:+0200
TZOFFSETTO:+0100
TZNAME:CET
END:STANDARD
END:VTIMEZONE
END:VCALENDAR