BEGIN:VCALENDAR
VERSION:2.0
PRODID:-//wp-events-plugin.com//7.2.3.1//EN
BEGIN:VEVENT
UID:124@frauenbildungszentrum.de
DTSTART;TZID=Europe/Berlin:20240608T100000
DTEND;TZID=Europe/Berlin:20240706T130000
DTSTAMP:20240603T090652Z
URL:https://www.frauenbildungszentrum.de/events/feldenkrais-2
SUMMARY:Feldenkrais 2
DESCRIPTION:Bewusstheit durch Bewegung – Kleingruppe 4 - 5 TN\nDurch dies
 e Methode des „organischen Lernens“ können körperliche Blockaden lok
 alisiert und eingefahrene Abläufe aufgelöst werden. Dies geschieht durch
  sich wiederholende Bewegungen\, die sich zu einem größeren Bewegungsabl
 auf zusammenfügen. Diese Bewegungen werden überwiegend im Liegen ausgef
 ührt.\nSo kann jeder körperlich beweglicher\, entspannter und stabiler u
 nd ebenso auch psychisch gelöster und geistig fitter werden. Bitte mitbri
 ngen: warme und bequeme Kleidung und eine Decke.\nLeitung: Martina Desoi 
 – Michel\n2 x Sa.\, 08.06. und 06.07.2024\n10.00 – 13.00 Uhr\n\n&nbsp\
 ;\n\n241-05-916\n 
CATEGORIES:Gesundheit &amp; Selbsterfahrung,Juni,Sport &amp; Bewegung
LOCATION:Frauenbildungszentrum\, Schöne Aussicht 24 \, Bad Homburg\, Hesse
 n\, 61348  \, Deutschland
X-APPLE-STRUCTURED-LOCATION;VALUE=URI;X-ADDRESS=Schöne Aussicht 24 \, Bad 
 Homburg\, Hessen\, 61348  \, Deutschland;X-APPLE-RADIUS=100;X-TITLE=Frauen
 bildungszentrum:geo:0,0
END:VEVENT
BEGIN:VTIMEZONE
TZID:Europe/Berlin
X-LIC-LOCATION:Europe/Berlin
BEGIN:DAYLIGHT
DTSTART:20240331T030000
TZOFFSETFROM:+0100
TZOFFSETTO:+0200
TZNAME:CEST
END:DAYLIGHT
END:VTIMEZONE
END:VCALENDAR