BEGIN:VCALENDAR
VERSION:2.0
PRODID:-//wp-events-plugin.com//7.2.3.1//EN
BEGIN:VEVENT
UID:43@frauenbildungszentrum.de
DTSTART;TZID=Europe/Berlin:20240906T180000
DTEND;TZID=Europe/Berlin:20240906T210000
DTSTAMP:20240903T093506Z
URL:https://www.frauenbildungszentrum.de/events/facebook-xing-linkedin-ins
 tagram-co
SUMMARY:facebook\, Xing\, LINKEDIN\, INSTAGRAM & CO
DESCRIPTION:Soziale Netzwerke privat und beruflich nutzen\nVoraussetzungen:
  Windows- und Internet-Grundkenntnisse\nSoziale Netzwerke im Internet erfr
 euen sich wachsender Beliebtheit. Sie dienen zum Kennenlernen\, Erfahrungs
 austausch\, Selbstdarstellung\, Jobsuche\, Terminplanung etc.\nDieser Work
 shop bietet einen schnellen Einstieg in die Welt der sozialen Netzwerke un
 d wie man diese sinnvoll privat und beruflich nutzt. Anhand praktischer Be
 ispiele wird gezeigt\, welche Anwendungen im Web 2.0 interessant sind und 
 wie man sich registrieren kann. Außerdem werden wichtige Aspekte wie Priv
 atsphäre\, Urheberrecht und Datenschutz thematisiert.\nKursinhalte:\n\n\n
  	Was bietet mir ein soziales Netzwerk?\n 	Chancen und Risiken sozialer Ne
 tzwerke\n 	Privatsphäre in sozialen Netzwerken wahren\n\nLeitung: Stefani
 e Fischer\nFreitag\, 6. September 2024\n18.00 – 21.00 Uhr\n\n&nbsp\;\n\n
 Mindestteilnehmerinnenzahl: 4\n\n242-01-305\n\n 
CATEGORIES:Computer Spezial,Computerkurse,September
LOCATION:Frauenbildungszentrum\, Schöne Aussicht 24 \, Bad Homburg\, Hesse
 n\, 61348  \, Deutschland
X-APPLE-STRUCTURED-LOCATION;VALUE=URI;X-ADDRESS=Schöne Aussicht 24 \, Bad 
 Homburg\, Hessen\, 61348  \, Deutschland;X-APPLE-RADIUS=100;X-TITLE=Frauen
 bildungszentrum:geo:0,0
END:VEVENT
BEGIN:VTIMEZONE
TZID:Europe/Berlin
X-LIC-LOCATION:Europe/Berlin
BEGIN:DAYLIGHT
DTSTART:20240331T030000
TZOFFSETFROM:+0100
TZOFFSETTO:+0200
TZNAME:CEST
END:DAYLIGHT
END:VTIMEZONE
END:VCALENDAR